Workbook
Name Abwesenheitsarten: Einstellungen!$H$22:$H$28
Name Auswahl: Einstellungen!$I$4:$I$5
Name Feiertage: Einstellungen!$I$10:$I$19
Name Monate: Einstellungen!$K$2:$K$13
Name Pausenzeiten: Einstellungen!$I$23:$I$25

Sheet Zeiterfassung
A1: 💡 Deine Zeiterfassung verdient ein Upgrade – entdecke Personizer. Jetzt kostenfrei testen
B2: Zeiterfassung
B3: =Einstellungen!E9&" "&Einstellungen!E10 -> Andi Arbeit
I4: {=IF(COUNTIF(I7:I399,"⚠*")>0, HYPERLINK("#I"&_xlfn.AGGREGATE(15,6,ROW(I$7:I$399)/(LEFT(I$7:I$399)="⚠"),1),"⚠ Fehler gefunden"), HYPERLINK("#C4",""))}
E5: Notiz | F5: Start | G5: Ende | H5: Pause | I5: Arbeitszeit | J5: Soll | K5: Abweichung
B6: Tag | D6: Datum | F6: ="(Ø "&TEXT(_xlfn.AGGREGATE(1,6,$F$7:$F$37),"[h]:mm;@")&" Uhr)" -> (Ø 8:55 Uhr) | G6: ="(Ø "&TEXT(_xlfn.AGGREGATE(1,6,$G$7:$G$37),"[h]:mm;@")&" Uhr)" -> (Ø 15:51 Uhr) | H6: ="(Ø "&TEXT(_xlfn.AGGREGATE(1,6,$H$7:$H$37),"[h]:mm;@")&" Std.)" -> (Ø 0:42 Std.) | I6: ="(Ø "&TEXT(_xlfn.AGGREGATE(1,6,$I$7:$I$37),"[h]:mm;@")&" Std.)" -> (Ø 6:13 Std.) | J6: Soll | K6: =IF(Einstellungen!$I$31=TRUE, "(Soll "&TEXT(Einstellungen!E19,"[h]:mm;@")&" Std./Tag)", "(Soll "&TEXT(Einstellungen!E19*24,"0,0")&" Std./Tag)") -> (Soll 6:00 Std./Tag) | L6: Freie Tage?
B7: =CHOOSE(WEEKDAY(D7,2),"Mo","Di","Mi","Do","Fr","Sa","So") -> Do | C7: =Einstellungen!E6 -> 46023 | D7: =Einstellungen!E6 -> 46023 | I7: =IF(OR(ISBLANK(F7),ISBLANK(G7)),"",IF(OR(ISTEXT(F7),ISTEXT(G7),ISTEXT(H7)),"⚠ Eingabe prüfen",IF((G7-F7-H7)<0,"⚠ Zeitfehler",G7-F7-H7))) | J7: =IF(L7,"",Einstellungen!$E$19) | K7: =IF(LEFT(I7,1)="⚠","",IF(I7="","",IF(L7,"",IF(J7="",IF(Einstellungen!$I$31=TRUE,"+ "&TEXT(I7,"[h]:mm")&" Std.","+ "&TEXT(I7*24,"0,0")&" Std."),IF(Einstellungen!$I$31=TRUE,IF(J7=I7," 00:00",IF(J7>I7,"- "&TEXT(J7-I7,"[h]:mm;@"),"+ "&TEXT(I7-J7,"[h]:mm;@"))),IF(J7=I7," 0,0",IF(J7>I7,"- "&TEXT((J7-I7)*24,"0,0"),"+ "&TEXT((I7-J7)*24,"0,0")))&" Std."))))) | L7: {=OR( NOT(INDEX(Einstellungen!$J$22:$J$28,WEEKDAY(D7,2))), COUNTIF(Feiertage,D7)>0 )} -> TRUE
B8: =CHOOSE(WEEKDAY(D8,2),"Mo","Di","Mi","Do","Fr","Sa","So") -> Fr | C8: =IF(C7+1<EDATE($C$7,12),C7+1,"") -> 46024 | D8: =IF(D7+1<EDATE($D$7,12),D7+1,"") -> 46024 | E8: Videocall mit Projektleiter | F8: 0.38194444 | G8: 0.66666667 | H8: 0.020833333 | I8: =IF(OR(ISBLANK(F8),ISBLANK(G8)),"",IF(OR(ISTEXT(F8),ISTEXT(G8),ISTEXT(H8)),"⚠ Eingabe prüfen",IF((G8-F8-H8)<0,"⚠ Zeitfehler",G8-F8-H8))) -> 0.26388889 | J8: =IF(L8,"",Einstellungen!$E$19) -> 0.25 | K8: =IF(LEFT(I8,1)="⚠","",IF(I8="","",IF(L8,"",IF(J8="",IF(Einstellungen!$I$31=TRUE,"+ "&TEXT(I8,"[h]:mm")&" Std.","+ "&TEXT(I8*24,"0,0")&" Std."),IF(Einstellungen!$I$31=TRUE,IF(J8=I8," 00:00",IF(J8>I8,"- "&TEXT(J8-I8,"[h]:mm;@"),"+ "&TEXT(I8-J8,"[h]:mm;@"))),IF(J8=I8," 0,0",IF(J8>I8,"- "&TEXT((J8-I8)*24,"0,0"),"+ "&TEXT((I8-J8)*24,"0,0")))&" Std."))))) -> + 0:20 | L8: {=OR( NOT(INDEX(Einstellungen!$J$22:$J$28,WEEKDAY(D8,2))), COUNTIF(Feiertage,D8)>0 )} -> FALSE
B9: =CHOOSE(WEEKDAY(D9,2),"Mo","Di","Mi","Do","Fr","Sa","So") -> Sa | C9: =IF(C8+1<EDATE($C$7,12),C8+1,"") -> 46025 | D9: =IF(D8+1<EDATE($D$7,12),D8+1,"") -> 46025 | I9: =IF(OR(ISBLANK(F9),ISBLANK(G9)),"",IF(OR(ISTEXT(F9),ISTEXT(G9),ISTEXT(H9)),"⚠ Eingabe prüfen",IF((G9-F9-H9)<0,"⚠ Zeitfehler",G9-F9-H9))) | J9: =IF(L9,"",Einstellungen!$E$19) | K9: =IF(LEFT(I9,1)="⚠","",IF(I9="","",IF(L9,"",IF(J9="",IF(Einstellungen!$I$31=TRUE,"+ "&TEXT(I9,"[h]:mm")&" Std.","+ "&TEXT(I9*24,"0,0")&" Std."),IF(Einstellungen!$I$31=TRUE,IF(J9=I9," 00:00",IF(J9>I9,"- "&TEXT(J9-I9,"[h]:mm;@"),"+ "&TEXT(I9-J9,"[h]:mm;@"))),IF(J9=I9," 0,0",IF(J9>I9,"- "&TEXT((J9-I9)*24,"0,0"),"+ "&TEXT((I9-J9)*24,"0,0")))&" Std."))))) | L9: {=OR( NOT(INDEX(Einstellungen!$J$22:$J$28,WEEKDAY(D9,2))), COUNTIF(Feiertage,D9)>0 )} -> TRUE
B10: =CHOOSE(WEEKDAY(D10,2),"Mo","Di","Mi","Do","Fr","Sa","So") -> So | C10: =IF(C9+1<EDATE($C$7,12),C9+1,"") -> 46026 | D10: =IF(D9+1<EDATE($D$7,12),D9+1,"") -> 46026 | I10: =IF(OR(ISBLANK(F10),ISBLANK(G10)),"",IF(OR(ISTEXT(F10),ISTEXT(G10),ISTEXT(H10)),"⚠ Eingabe prüfen",IF((G10-F10-H10)<0,"⚠ Zeitfehler",G10-F10-H10))) | J10: =IF(L10,"",Einstellungen!$E$19) | K10: =IF(LEFT(I10,1)="⚠","",IF(I10="","",IF(L10,"",IF(J10="",IF(Einstellungen!$I$31=TRUE,"+ "&TEXT(I10,"[h]:mm")&" Std.","+ "&TEXT(I10*24,"0,0")&" Std."),IF(Einstellungen!$I$31=TRUE,IF(J10=I10," 00:00",IF(J10>I10,"- "&TEXT(J10-I10,"[h]:mm;@"),"+ "&TEXT(I10-J10,"[h]:mm;@"))),IF(J10=I10," 0,0",IF(J10>I10,"- "&TEXT((J10-I10)*24,"0,0"),"+ "&TEXT((I10-J10)*24,"0,0")))&" Std."))))) | L10: {=OR( NOT(INDEX(Einstellungen!$J$22:$J$28,WEEKDAY(D10,2))), COUNTIF(Feiertage,D10)>0 )} -> TRUE
B11: =CHOOSE(WEEKDAY(D11,2),"Mo","Di","Mi","Do","Fr","Sa","So") -> Mo | C11: =IF(C10+1<EDATE($C$7,12),C10+1,"") -> 46027 | D11: =IF(D10+1<EDATE($D$7,12),D10+1,"") -> 46027 | E11: Team Meeting | F11: 0.35416667 | G11: 0.66666667 | H11: 0.020833333 | I11: =IF(OR(ISBLANK(F11),ISBLANK(G11)),"",IF(OR(ISTEXT(F11),ISTEXT(G11),ISTEXT(H11)),"⚠ Eingabe prüfen",IF((G11-F11-H11)<0,"⚠ Zeitfehler",G11-F11-H11))) -> 0.29166667 | J11: =IF(L11,"",Einstellungen!$E$19) -> 0.25 | K11: =IF(LEFT(I11,1)="⚠","",IF(I11="","",IF(L11,"",IF(J11="",IF(Einstellungen!$I$31=TRUE,"+ "&TEXT(I11,"[h]:mm")&" Std.","+ "&TEXT(I11*24,"0,0")&" Std."),IF(Einstellungen!$I$31=TRUE,IF(J11=I11," 00:00",IF(J11>I11,"- "&TEXT(J11-I11,"[h]:mm;@"),"+ "&TEXT(I11-J11,"[h]:mm;@"))),IF(J11=I11," 0,0",IF(J11>I11,"- "&TEXT((J11-I11)*24,"0,0"),"+ "&TEXT((I11-J11)*24,"0,0")))&" Std."))))) -> + 1:00 | L11: {=OR( NOT(INDEX(Einstellungen!$J$22:$J$28,WEEKDAY(D11,2))), COUNTIF(Feiertage,D11)>0 )} -> FALSE
B12: =CHOOSE(WEEKDAY(D12,2),"Mo","Di","Mi","Do","Fr","Sa","So") -> Di | C12: =IF(C11+1<EDATE($C$7,12),C11+1,"") -> 46028 | D12: =IF(D11+1<EDATE($D$7,12),D11+1,"") -> 46028 | E12: Team Event | F12: 0.38194444 | G12: 0.6875 | H12: 0.021527778 | I12: =IF(OR(ISBLANK(F12),ISBLANK(G12)),"",IF(OR(ISTEXT(F12),ISTEXT(G12),ISTEXT(H12)),"⚠ Eingabe prüfen",IF((G12-F12-H12)<0,"⚠ Zeitfehler",G12-F12-H12))) -> 0.28402778 | J12: =IF(L12,"",Einstellungen!$E$19) -> 0.25 | K12: =IF(LEFT(I12,1)="⚠","",IF(I12="","",IF(L12,"",IF(J12="",IF(Einstellungen!$I$31=TRUE,"+ "&TEXT(I12,"[h]:mm")&" Std.","+ "&TEXT(I12*24,"0,0")&" Std."),IF(Einstellungen!$I$31=TRUE,IF(J12=I12," 00:00",IF(J12>I12,"- "&TEXT(J12-I12,"[h]:mm;@"),"+ "&TEXT(I12-J12,"[h]:mm;@"))),IF(J12=I12," 0,0",IF(J12>I12,"- "&TEXT((J12-I12)*24,"0,0"),"+ "&TEXT((I12-J12)*24,"0,0")))&" Std."))))) -> + 0:49 | L12: {=OR( NOT(INDEX(Einstellungen!$J$22:$J$28,WEEKDAY(D12,2))), COUNTIF(Feiertage,D12)>0 )} -> FALSE
B13: =CHOOSE(WEEKDAY(D13,2),"Mo","Di","Mi","Do","Fr","Sa","So") -> Mi | C13: =IF(C12+1<EDATE($C$7,12),C12+1,"") -> 46029 | D13: =IF(D12+1<EDATE($D$7,12),D12+1,"") -> 46029 | E13: Team Event | F13: 0.375 | G13: 0.66666667 | H13: 0.015972222 | I13: =IF(OR(ISBLANK(F13),ISBLANK(G13)),"",IF(OR(ISTEXT(F13),ISTEXT(G13),ISTEXT(H13)),"⚠ Eingabe prüfen",IF((G13-F13-H13)<0,"⚠ Zeitfehler",G13-F13-H13))) -> 0.27569444 | J13: =IF(L13,"",Einstellungen!$E$19) -> 0.25 | K13: =IF(LEFT(I13,1)="⚠","",IF(I13="","",IF(L13,"",IF(J13="",IF(Einstellungen!$I$31=TRUE,"+ "&TEXT(I13,"[h]:mm")&" Std.","+ "&TEXT(I13*24,"0,0")&" Std."),IF(Einstellungen!$I$31=TRUE,IF(J13=I13," 00:00",IF(J13>I13,"- "&TEXT(J13-I13,"[h]:mm;@"),"+ "&TEXT(I13-J13,"[h]:mm;@"))),IF(J13=I13," 0,0",IF(J13>I13,"- "&TEXT((J13-I13)*24,"0,0"),"+ "&TEXT((I13-J13)*24,"0,0")))&" Std."))))) -> + 0:37 | L13: {=OR( NOT(INDEX(Einstellungen!$J$22:$J$28,WEEKDAY(D13,2))), COUNTIF(Feiertage,D13)>0 )} -> FALSE
B14: =CHOOSE(WEEKDAY(D14,2),"Mo","Di","Mi","Do","Fr","Sa","So") -> Do | C14: =IF(C13+1<EDATE($C$7,12),C13+1,"") -> 46030 | D14: =IF(D13+1<EDATE($D$7,12),D13+1,"") -> 46030 | E14: Geschäftsessen | F14: 0.35416667 | G14: 0.66666667 | H14: 0.041666667 | I14: =IF(OR(ISBLANK(F14),ISBLANK(G14)),"",IF(OR(ISTEXT(F14),ISTEXT(G14),ISTEXT(H14)),"⚠ Eingabe prüfen",IF((G14-F14-H14)<0,"⚠ Zeitfehler",G14-F14-H14))) -> 0.27083333 | J14: =IF(L14,"",Einstellungen!$E$19) -> 0.25 | K14: =IF(LEFT(I14,1)="⚠","",IF(I14="","",IF(L14,"",IF(J14="",IF(Einstellungen!$I$31=TRUE,"+ "&TEXT(I14,"[h]:mm")&" Std.","+ "&TEXT(I14*24,"0,0")&" Std."),IF(Einstellungen!$I$31=TRUE,IF(J14=I14," 00:00",IF(J14>I14,"- "&TEXT(J14-I14,"[h]:mm;@"),"+ "&TEXT(I14-J14,"[h]:mm;@"))),IF(J14=I14," 0,0",IF(J14>I14,"- "&TEXT((J14-I14)*24,"0,0"),"+ "&TEXT((I14-J14)*24,"0,0")))&" Std."))))) -> + 0:30 | L14: {=OR( NOT(INDEX(Einstellungen!$J$22:$J$28,WEEKDAY(D14,2))), COUNTIF(Feiertage,D14)>0 )} -> FALSE
B15: =CHOOSE(WEEKDAY(D15,2),"Mo","Di","Mi","Do","Fr","Sa","So") -> Fr | C15: =IF(C14+1<EDATE($C$7,12),C14+1,"") -> 46031 | D15: =IF(D14+1<EDATE($D$7,12),D14+1,"") -> 46031 | E15: Konzentrationsarbeit | F15: 0.38194444 | G15: 0.69791667 | H15: 0.043055556 | I15: =IF(OR(ISBLANK(F15),ISBLANK(G15)),"",IF(OR(ISTEXT(F15),ISTEXT(G15),ISTEXT(H15)),"⚠ Eingabe prüfen",IF((G15-F15-H15)<0,"⚠ Zeitfehler",G15-F15-H15))) -> 0.27291667 | J15: =IF(L15,"",Einstellungen!$E$19) -> 0.25 | K15: =IF(LEFT(I15,1)="⚠","",IF(I15="","",IF(L15,"",IF(J15="",IF(Einstellungen!$I$31=TRUE,"+ "&TEXT(I15,"[h]:mm")&" Std.","+ "&TEXT(I15*24,"0,0")&" Std."),IF(Einstellungen!$I$31=TRUE,IF(J15=I15," 00:00",IF(J15>I15,"- "&TEXT(J15-I15,"[h]:mm;@"),"+ "&TEXT(I15-J15,"[h]:mm;@"))),IF(J15=I15," 0,0",IF(J15>I15,"- "&TEXT((J15-I15)*24,"0,0"),"+ "&TEXT((I15-J15)*24,"0,0")))&" Std."))))) -> + 0:33 | L15: {=OR( NOT(INDEX(Einstellungen!$J$22:$J$28,WEEKDAY(D15,2))), COUNTIF(Feiertage,D15)>0 )} -> FALSE
B16: =CHOOSE(WEEKDAY(D16,2),"Mo","Di","Mi","Do","Fr","Sa","So") -> Sa | C16: =IF(C15+1<EDATE($C$7,12),C15+1,"") -> 46032 | D16: =IF(D15+1<EDATE($D$7,12),D15+1,"") -> 46032 | I16: =IF(OR(ISBLANK(F16),ISBLANK(G16)),"",IF(OR(ISTEXT(F16),ISTEXT(G16),ISTEXT(H16)),"⚠ Eingabe prüfen",IF((G16-F16-H16)<0,"⚠ Zeitfehler",G16-F16-H16))) | J16: =IF(L16,"",Einstellungen!$E$19) | K16: =IF(LEFT(I16,1)="⚠","",IF(I16="","",IF(L16,"",IF(J16="",IF(Einstellungen!$I$31=TRUE,"+ "&TEXT(I16,"[h]:mm")&" Std.","+ "&TEXT(I16*24,"0,0")&" Std."),IF(Einstellungen!$I$31=TRUE,IF(J16=I16," 00:00",IF(J16>I16,"- "&TEXT(J16-I16,"[h]:mm;@"),"+ "&TEXT(I16-J16,"[h]:mm;@"))),IF(J16=I16," 0,0",IF(J16>I16,"- "&TEXT((J16-I16)*24,"0,0"),"+ "&TEXT((I16-J16)*24,"0,0")))&" Std."))))) | L16: {=OR( NOT(INDEX(Einstellungen!$J$22:$J$28,WEEKDAY(D16,2))), COUNTIF(Feiertage,D16)>0 )} -> TRUE
B17: =CHOOSE(WEEKDAY(D17,2),"Mo","Di","Mi","Do","Fr","Sa","So") -> So | C17: =IF(C16+1<EDATE($C$7,12),C16+1,"") -> 46033 | D17: =IF(D16+1<EDATE($D$7,12),D16+1,"") -> 46033 | I17: =IF(OR(ISBLANK(F17),ISBLANK(G17)),"",IF(OR(ISTEXT(F17),ISTEXT(G17),ISTEXT(H17)),"⚠ Eingabe prüfen",IF((G17-F17-H17)<0,"⚠ Zeitfehler",G17-F17-H17))) | J17: =IF(L17,"",Einstellungen!$E$19) | K17: =IF(LEFT(I17,1)="⚠","",IF(I17="","",IF(L17,"",IF(J17="",IF(Einstellungen!$I$31=TRUE,"+ "&TEXT(I17,"[h]:mm")&" Std.","+ "&TEXT(I17*24,"0,0")&" Std."),IF(Einstellungen!$I$31=TRUE,IF(J17=I17," 00:00",IF(J17>I17,"- "&TEXT(J17-I17,"[h]:mm;@"),"+ "&TEXT(I17-J17,"[h]:mm;@"))),IF(J17=I17," 0,0",IF(J17>I17,"- "&TEXT((J17-I17)*24,"0,0"),"+ "&TEXT((I17-J17)*24,"0,0")))&" Std."))))) | L17: {=OR( NOT(INDEX(Einstellungen!$J$22:$J$28,WEEKDAY(D17,2))), COUNTIF(Feiertage,D17)>0 )} -> TRUE
B18: =CHOOSE(WEEKDAY(D18,2),"Mo","Di","Mi","Do","Fr","Sa","So") -> Mo | C18: =IF(C17+1<EDATE($C$7,12),C17+1,"") -> 46034 | D18: =IF(D17+1<EDATE($D$7,12),D17+1,"") -> 46034 | E18: Videokonferenz | F18: 0.35416667 | G18: 0.64583333 | H18: 0.016666667 | I18: =IF(OR(ISBLANK(F18),ISBLANK(G18)),"",IF(OR(ISTEXT(F18),ISTEXT(G18),ISTEXT(H18)),"⚠ Eingabe prüfen",IF((G18-F18-H18)<0,"⚠ Zeitfehler",G18-F18-H18))) -> 0.275 | J18: =IF(L18,"",Einstellungen!$E$19) -> 0.25 | K18: =IF(LEFT(I18,1)="⚠","",IF(I18="","",IF(L18,"",IF(J18="",IF(Einstellungen!$I$31=TRUE,"+ "&TEXT(I18,"[h]:mm")&" Std.","+ "&TEXT(I18*24,"0,0")&" Std."),IF(Einstellungen!$I$31=TRUE,IF(J18=I18," 00:00",IF(J18>I18,"- "&TEXT(J18-I18,"[h]:mm;@"),"+ "&TEXT(I18-J18,"[h]:mm;@"))),IF(J18=I18," 0,0",IF(J18>I18,"- "&TEXT((J18-I18)*24,"0,0"),"+ "&TEXT((I18-J18)*24,"0,0")))&" Std."))))) -> + 0:36 | L18: {=OR( NOT(INDEX(Einstellungen!$J$22:$J$28,WEEKDAY(D18,2))), COUNTIF(Feiertage,D18)>0 )} -> FALSE
B19: =CHOOSE(WEEKDAY(D19,2),"Mo","Di","Mi","Do","Fr","Sa","So") -> Di | C19: =IF(C18+1<EDATE($C$7,12),C18+1,"") -> 46035 | D19: =IF(D18+1<EDATE($D$7,12),D18+1,"") -> 46035 | E19: Schulung | F19: 0.38194444 | G19: 0.69791667 | H19: 0.015277778 | I19: =IF(OR(ISBLANK(F19),ISBLANK(G19)),"",IF(OR(ISTEXT(F19),ISTEXT(G19),ISTEXT(H19)),"⚠ Eingabe prüfen",IF((G19-F19-H19)<0,"⚠ Zeitfehler",G19-F19-H19))) -> 0.30069444 | J19: =IF(L19,"",Einstellungen!$E$19) -> 0.25 | K19: =IF(LEFT(I19,1)="⚠","",IF(I19="","",IF(L19,"",IF(J19="",IF(Einstellungen!$I$31=TRUE,"+ "&TEXT(I19,"[h]:mm")&" Std.","+ "&TEXT(I19*24,"0,0")&" Std."),IF(Einstellungen!$I$31=TRUE,IF(J19=I19," 00:00",IF(J19>I19,"- "&TEXT(J19-I19,"[h]:mm;@"),"+ "&TEXT(I19-J19,"[h]:mm;@"))),IF(J19=I19," 0,0",IF(J19>I19,"- "&TEXT((J19-I19)*24,"0,0"),"+ "&TEXT((I19-J19)*24,"0,0")))&" Std."))))) -> + 1:13 | L19: {=OR( NOT(INDEX(Einstellungen!$J$22:$J$28,WEEKDAY(D19,2))), COUNTIF(Feiertage,D19)>0 )} -> FALSE
B20: =CHOOSE(WEEKDAY(D20,2),"Mo","Di","Mi","Do","Fr","Sa","So") -> Mi | C20: =IF(C19+1<EDATE($C$7,12),C19+1,"") -> 46036 | D20: =IF(D19+1<EDATE($D$7,12),D19+1,"") -> 46036 | E20: Konzentrationsarbeit | F20: 0.375 | G20: 0.68402778 | H20: 0.03125 | I20: =IF(OR(ISBLANK(F20),ISBLANK(G20)),"",IF(OR(ISTEXT(F20),ISTEXT(G20),ISTEXT(H20)),"⚠ Eingabe prüfen",IF((G20-F20-H20)<0,"⚠ Zeitfehler",G20-F20-H20))) -> 0.27777778 | J20: =IF(L20,"",Einstellungen!$E$19) -> 0.25 | K20: =IF(LEFT(I20,1)="⚠","",IF(I20="","",IF(L20,"",IF(J20="",IF(Einstellungen!$I$31=TRUE,"+ "&TEXT(I20,"[h]:mm")&" Std.","+ "&TEXT(I20*24,"0,0")&" Std."),IF(Einstellungen!$I$31=TRUE,IF(J20=I20," 00:00",IF(J20>I20,"- "&TEXT(J20-I20,"[h]:mm;@"),"+ "&TEXT(I20-J20,"[h]:mm;@"))),IF(J20=I20," 0,0",IF(J20>I20,"- "&TEXT((J20-I20)*24,"0,0"),"+ "&TEXT((I20-J20)*24,"0,0")))&" Std."))))) -> + 0:40 | L20: {=OR( NOT(INDEX(Einstellungen!$J$22:$J$28,WEEKDAY(D20,2))), COUNTIF(Feiertage,D20)>0 )} -> FALSE
B21: =CHOOSE(WEEKDAY(D21,2),"Mo","Di","Mi","Do","Fr","Sa","So") -> Do | C21: =IF(C20+1<EDATE($C$7,12),C20+1,"") -> 46037 | D21: =IF(D20+1<EDATE($D$7,12),D20+1,"") -> 46037 | E21: Konzentrationsarbeit | F21: 0.38194444 | G21: 0.69791667 | H21: 0.015972222 | I21: =IF(OR(ISBLANK(F21),ISBLANK(G21)),"",IF(OR(ISTEXT(F21),ISTEXT(G21),ISTEXT(H21)),"⚠ Eingabe prüfen",IF((G21-F21-H21)<0,"⚠ Zeitfehler",G21-F21-H21))) -> 0.3 | J21: =IF(L21,"",Einstellungen!$E$19) -> 0.25 | K21: =IF(LEFT(I21,1)="⚠","",IF(I21="","",IF(L21,"",IF(J21="",IF(Einstellungen!$I$31=TRUE,"+ "&TEXT(I21,"[h]:mm")&" Std.","+ "&TEXT(I21*24,"0,0")&" Std."),IF(Einstellungen!$I$31=TRUE,IF(J21=I21," 00:00",IF(J21>I21,"- "&TEXT(J21-I21,"[h]:mm;@"),"+ "&TEXT(I21-J21,"[h]:mm;@"))),IF(J21=I21," 0,0",IF(J21>I21,"- "&TEXT((J21-I21)*24,"0,0"),"+ "&TEXT((I21-J21)*24,"0,0")))&" Std."))))) -> + 1:12 | L21: {=OR( NOT(INDEX(Einstellungen!$J$22:$J$28,WEEKDAY(D21,2))), COUNTIF(Feiertage,D21)>0 )} -> FALSE
B22: =CHOOSE(WEEKDAY(D22,2),"Mo","Di","Mi","Do","Fr","Sa","So") -> Fr | C22: =IF(C21+1<EDATE($C$7,12),C21+1,"") -> 46038 | D22: =IF(D21+1<EDATE($D$7,12),D21+1,"") -> 46038 | E22: Geschäftsessen | F22: 0.35416667 | G22: 0.41666667 | H22: 0.020833333 | I22: =IF(OR(ISBLANK(F22),ISBLANK(G22)),"",IF(OR(ISTEXT(F22),ISTEXT(G22),ISTEXT(H22)),"⚠ Eingabe prüfen",IF((G22-F22-H22)<0,"⚠ Zeitfehler",G22-F22-H22))) -> 0.041666667 | J22: =IF(L22,"",Einstellungen!$E$19) -> 0.25 | K22: =IF(LEFT(I22,1)="⚠","",IF(I22="","",IF(L22,"",IF(J22="",IF(Einstellungen!$I$31=TRUE,"+ "&TEXT(I22,"[h]:mm")&" Std.","+ "&TEXT(I22*24,"0,0")&" Std."),IF(Einstellungen!$I$31=TRUE,IF(J22=I22," 00:00",IF(J22>I22,"- "&TEXT(J22-I22,"[h]:mm;@"),"+ "&TEXT(I22-J22,"[h]:mm;@"))),IF(J22=I22," 0,0",IF(J22>I22,"- "&TEXT((J22-I22)*24,"0,0"),"+ "&TEXT((I22-J22)*24,"0,0")))&" Std."))))) -> - 5:00 | L22: {=OR( NOT(INDEX(Einstellungen!$J$22:$J$28,WEEKDAY(D22,2))), COUNTIF(Feiertage,D22)>0 )} -> FALSE
B23: =CHOOSE(WEEKDAY(D23,2),"Mo","Di","Mi","Do","Fr","Sa","So") -> Sa | C23: =IF(C22+1<EDATE($C$7,12),C22+1,"") -> 46039 | D23: =IF(D22+1<EDATE($D$7,12),D22+1,"") -> 46039 | I23: =IF(OR(ISBLANK(F23),ISBLANK(G23)),"",IF(OR(ISTEXT(F23),ISTEXT(G23),ISTEXT(H23)),"⚠ Eingabe prüfen",IF((G23-F23-H23)<0,"⚠ Zeitfehler",G23-F23-H23))) | J23: =IF(L23,"",Einstellungen!$E$19) | K23: =IF(LEFT(I23,1)="⚠","",IF(I23="","",IF(L23,"",IF(J23="",IF(Einstellungen!$I$31=TRUE,"+ "&TEXT(I23,"[h]:mm")&" Std.","+ "&TEXT(I23*24,"0,0")&" Std."),IF(Einstellungen!$I$31=TRUE,IF(J23=I23," 00:00",IF(J23>I23,"- "&TEXT(J23-I23,"[h]:mm;@"),"+ "&TEXT(I23-J23,"[h]:mm;@"))),IF(J23=I23," 0,0",IF(J23>I23,"- "&TEXT((J23-I23)*24,"0,0"),"+ "&TEXT((I23-J23)*24,"0,0")))&" Std."))))) | L23: {=OR( NOT(INDEX(Einstellungen!$J$22:$J$28,WEEKDAY(D23,2))), COUNTIF(Feiertage,D23)>0 )} -> TRUE
B24: =CHOOSE(WEEKDAY(D24,2),"Mo","Di","Mi","Do","Fr","Sa","So") -> So | C24: =IF(C23+1<EDATE($C$7,12),C23+1,"") -> 46040 | D24: =IF(D23+1<EDATE($D$7,12),D23+1,"") -> 46040 | I24: =IF(OR(ISBLANK(F24),ISBLANK(G24)),"",IF(OR(ISTEXT(F24),ISTEXT(G24),ISTEXT(H24)),"⚠ Eingabe prüfen",IF((G24-F24-H24)<0,"⚠ Zeitfehler",G24-F24-H24))) | J24: =IF(L24,"",Einstellungen!$E$19) | K24: =IF(LEFT(I24,1)="⚠","",IF(I24="","",IF(L24,"",IF(J24="",IF(Einstellungen!$I$31=TRUE,"+ "&TEXT(I24,"[h]:mm")&" Std.","+ "&TEXT(I24*24,"0,0")&" Std."),IF(Einstellungen!$I$31=TRUE,IF(J24=I24," 00:00",IF(J24>I24,"- "&TEXT(J24-I24,"[h]:mm;@"),"+ "&TEXT(I24-J24,"[h]:mm;@"))),IF(J24=I24," 0,0",IF(J24>I24,"- "&TEXT((J24-I24)*24,"0,0"),"+ "&TEXT((I24-J24)*24,"0,0")))&" Std."))))) | L24: {=OR( NOT(INDEX(Einstellungen!$J$22:$J$28,WEEKDAY(D24,2))), COUNTIF(Feiertage,D24)>0 )} -> TRUE
B25: =CHOOSE(WEEKDAY(D25,2),"Mo","Di","Mi","Do","Fr","Sa","So") -> Mo | C25: =IF(C24+1<EDATE($C$7,12),C24+1,"") -> 46041 | D25: =IF(D24+1<EDATE($D$7,12),D24+1,"") -> 46041 | E25: Videocall mit Projektleiter | F25: 0.38194444 | G25: 0.69791667 | H25: 0.043055556 | I25: =IF(OR(ISBLANK(F25),ISBLANK(G25)),"",IF(OR(ISTEXT(F25),ISTEXT(G25),ISTEXT(H25)),"⚠ Eingabe prüfen",IF((G25-F25-H25)<0,"⚠ Zeitfehler",G25-F25-H25))) -> 0.27291667 | J25: =IF(L25,"",Einstellungen!$E$19) -> 0.25 | K25: =IF(LEFT(I25,1)="⚠","",IF(I25="","",IF(L25,"",IF(J25="",IF(Einstellungen!$I$31=TRUE,"+ "&TEXT(I25,"[h]:mm")&" Std.","+ "&TEXT(I25*24,"0,0")&" Std."),IF(Einstellungen!$I$31=TRUE,IF(J25=I25," 00:00",IF(J25>I25,"- "&TEXT(J25-I25,"[h]:mm;@"),"+ "&TEXT(I25-J25,"[h]:mm;@"))),IF(J25=I25," 0,0",IF(J25>I25,"- "&TEXT((J25-I25)*24,"0,0"),"+ "&TEXT((I25-J25)*24,"0,0")))&" Std."))))) -> + 0:33 | L25: {=OR( NOT(INDEX(Einstellungen!$J$22:$J$28,WEEKDAY(D25,2))), COUNTIF(Feiertage,D25)>0 )} -> FALSE
B26: =CHOOSE(WEEKDAY(D26,2),"Mo","Di","Mi","Do","Fr","Sa","So") -> Di | C26: =IF(C25+1<EDATE($C$7,12),C25+1,"") -> 46042 | D26: =IF(D25+1<EDATE($D$7,12),D25+1,"") -> 46042 | E26: Konzentratiosnarbeit | F26: 0.375 | G26: 0.67708333 | H26: 0.045138889 | I26: =IF(OR(ISBLANK(F26),ISBLANK(G26)),"",IF(OR(ISTEXT(F26),ISTEXT(G26),ISTEXT(H26)),"⚠ Eingabe prüfen",IF((G26-F26-H26)<0,"⚠ Zeitfehler",G26-F26-H26))) -> 0.25694444 | J26: =IF(L26,"",Einstellungen!$E$19) -> 0.25 | K26: =IF(LEFT(I26,1)="⚠","",IF(I26="","",IF(L26,"",IF(J26="",IF(Einstellungen!$I$31=TRUE,"+ "&TEXT(I26,"[h]:mm")&" Std.","+ "&TEXT(I26*24,"0,0")&" Std."),IF(Einstellungen!$I$31=TRUE,IF(J26=I26," 00:00",IF(J26>I26,"- "&TEXT(J26-I26,"[h]:mm;@"),"+ "&TEXT(I26-J26,"[h]:mm;@"))),IF(J26=I26," 0,0",IF(J26>I26,"- "&TEXT((J26-I26)*24,"0,0"),"+ "&TEXT((I26-J26)*24,"0,0")))&" Std."))))) -> + 0:10 | L26: {=OR( NOT(INDEX(Einstellungen!$J$22:$J$28,WEEKDAY(D26,2))), COUNTIF(Feiertage,D26)>0 )} -> FALSE
B27: =CHOOSE(WEEKDAY(D27,2),"Mo","Di","Mi","Do","Fr","Sa","So") -> Mi | C27: =IF(C26+1<EDATE($C$7,12),C26+1,"") -> 46043 | D27: =IF(D26+1<EDATE($D$7,12),D26+1,"") -> 46043 | E27: Team-Meeting | F27: 0.35416667 | G27: 0.63541667 | H27: 0.059027778 | I27: =IF(OR(ISBLANK(F27),ISBLANK(G27)),"",IF(OR(ISTEXT(F27),ISTEXT(G27),ISTEXT(H27)),"⚠ Eingabe prüfen",IF((G27-F27-H27)<0,"⚠ Zeitfehler",G27-F27-H27))) -> 0.22222222 | J27: =IF(L27,"",Einstellungen!$E$19) -> 0.25 | K27: =IF(LEFT(I27,1)="⚠","",IF(I27="","",IF(L27,"",IF(J27="",IF(Einstellungen!$I$31=TRUE,"+ "&TEXT(I27,"[h]:mm")&" Std.","+ "&TEXT(I27*24,"0,0")&" Std."),IF(Einstellungen!$I$31=TRUE,IF(J27=I27," 00:00",IF(J27>I27,"- "&TEXT(J27-I27,"[h]:mm;@"),"+ "&TEXT(I27-J27,"[h]:mm;@"))),IF(J27=I27," 0,0",IF(J27>I27,"- "&TEXT((J27-I27)*24,"0,0"),"+ "&TEXT((I27-J27)*24,"0,0")))&" Std."))))) -> - 0:40 | L27: {=OR( NOT(INDEX(Einstellungen!$J$22:$J$28,WEEKDAY(D27,2))), COUNTIF(Feiertage,D27)>0 )} -> FALSE
B28: =CHOOSE(WEEKDAY(D28,2),"Mo","Di","Mi","Do","Fr","Sa","So") -> Do | C28: =IF(C27+1<EDATE($C$7,12),C27+1,"") -> 46044 | D28: =IF(D27+1<EDATE($D$7,12),D27+1,"") -> 46044 | E28: Team-Event | F28: 0.38194444 | G28: 0.69791667 | H28: 0.015972222 | I28: =IF(OR(ISBLANK(F28),ISBLANK(G28)),"",IF(OR(ISTEXT(F28),ISTEXT(G28),ISTEXT(H28)),"⚠ Eingabe prüfen",IF((G28-F28-H28)<0,"⚠ Zeitfehler",G28-F28-H28))) -> 0.3 | J28: =IF(L28,"",Einstellungen!$E$19) -> 0.25 | K28: =IF(LEFT(I28,1)="⚠","",IF(I28="","",IF(L28,"",IF(J28="",IF(Einstellungen!$I$31=TRUE,"+ "&TEXT(I28,"[h]:mm")&" Std.","+ "&TEXT(I28*24,"0,0")&" Std."),IF(Einstellungen!$I$31=TRUE,IF(J28=I28," 00:00",IF(J28>I28,"- "&TEXT(J28-I28,"[h]:mm;@"),"+ "&TEXT(I28-J28,"[h]:mm;@"))),IF(J28=I28," 0,0",IF(J28>I28,"- "&TEXT((J28-I28)*24,"0,0"),"+ "&TEXT((I28-J28)*24,"0,0")))&" Std."))))) -> + 1:12 | L28: {=OR( NOT(INDEX(Einstellungen!$J$22:$J$28,WEEKDAY(D28,2))), COUNTIF(Feiertage,D28)>0 )} -> FALSE
B29: =CHOOSE(WEEKDAY(D29,2),"Mo","Di","Mi","Do","Fr","Sa","So") -> Fr | C29: =IF(C28+1<EDATE($C$7,12),C28+1,"") -> 46045 | D29: =IF(D28+1<EDATE($D$7,12),D28+1,"") -> 46045 | E29: Team-Event | F29: 0.375 | G29: 0.67708333 | H29: 0.045138889 | I29: =IF(OR(ISBLANK(F29),ISBLANK(G29)),"",IF(OR(ISTEXT(F29),ISTEXT(G29),ISTEXT(H29)),"⚠ Eingabe prüfen",IF((G29-F29-H29)<0,"⚠ Zeitfehler",G29-F29-H29))) -> 0.25694444 | J29: =IF(L29,"",Einstellungen!$E$19) -> 0.25 | K29: =IF(LEFT(I29,1)="⚠","",IF(I29="","",IF(L29,"",IF(J29="",IF(Einstellungen!$I$31=TRUE,"+ "&TEXT(I29,"[h]:mm")&" Std.","+ "&TEXT(I29*24,"0,0")&" Std."),IF(Einstellungen!$I$31=TRUE,IF(J29=I29," 00:00",IF(J29>I29,"- "&TEXT(J29-I29,"[h]:mm;@"),"+ "&TEXT(I29-J29,"[h]:mm;@"))),IF(J29=I29," 0,0",IF(J29>I29,"- "&TEXT((J29-I29)*24,"0,0"),"+ "&TEXT((I29-J29)*24,"0,0")))&" Std."))))) -> + 0:10 | L29: {=OR( NOT(INDEX(Einstellungen!$J$22:$J$28,WEEKDAY(D29,2))), COUNTIF(Feiertage,D29)>0 )} -> FALSE
B30: =CHOOSE(WEEKDAY(D30,2),"Mo","Di","Mi","Do","Fr","Sa","So") -> Sa | C30: =IF(C29+1<EDATE($C$7,12),C29+1,"") -> 46046 | D30: =IF(D29+1<EDATE($D$7,12),D29+1,"") -> 46046 | I30: =IF(OR(ISBLANK(F30),ISBLANK(G30)),"",IF(OR(ISTEXT(F30),ISTEXT(G30),ISTEXT(H30)),"⚠ Eingabe prüfen",IF((G30-F30-H30)<0,"⚠ Zeitfehler",G30-F30-H30))) | J30: =IF(L30,"",Einstellungen!$E$19) | K30: =IF(LEFT(I30,1)="⚠","",IF(I30="","",IF(L30,"",IF(J30="",IF(Einstellungen!$I$31=TRUE,"+ "&TEXT(I30,"[h]:mm")&" Std.","+ "&TEXT(I30*24,"0,0")&" Std."),IF(Einstellungen!$I$31=TRUE,IF(J30=I30," 00:00",IF(J30>I30,"- "&TEXT(J30-I30,"[h]:mm;@"),"+ "&TEXT(I30-J30,"[h]:mm;@"))),IF(J30=I30," 0,0",IF(J30>I30,"- "&TEXT((J30-I30)*24,"0,0"),"+ "&TEXT((I30-J30)*24,"0,0")))&" Std."))))) | L30: {=OR( NOT(INDEX(Einstellungen!$J$22:$J$28,WEEKDAY(D30,2))), COUNTIF(Feiertage,D30)>0 )} -> TRUE
B31: =CHOOSE(WEEKDAY(D31,2),"Mo","Di","Mi","Do","Fr","Sa","So") -> So | C31: =IF(C30+1<EDATE($C$7,12),C30+1,"") -> 46047 | D31: =IF(D30+1<EDATE($D$7,12),D30+1,"") -> 46047 | I31: =IF(OR(ISBLANK(F31),ISBLANK(G31)),"",IF(OR(ISTEXT(F31),ISTEXT(G31),ISTEXT(H31)),"⚠ Eingabe prüfen",IF((G31-F31-H31)<0,"⚠ Zeitfehler",G31-F31-H31))) | J31: =IF(L31,"",Einstellungen!$E$19) | K31: =IF(LEFT(I31,1)="⚠","",IF(I31="","",IF(L31,"",IF(J31="",IF(Einstellungen!$I$31=TRUE,"+ "&TEXT(I31,"[h]:mm")&" Std.","+ "&TEXT(I31*24,"0,0")&" Std."),IF(Einstellungen!$I$31=TRUE,IF(J31=I31," 00:00",IF(J31>I31,"- "&TEXT(J31-I31,"[h]:mm;@"),"+ "&TEXT(I31-J31,"[h]:mm;@"))),IF(J31=I31," 0,0",IF(J31>I31,"- "&TEXT((J31-I31)*24,"0,0"),"+ "&TEXT((I31-J31)*24,"0,0")))&" Std."))))) | L31: {=OR( NOT(INDEX(Einstellungen!$J$22:$J$28,WEEKDAY(D31,2))), COUNTIF(Feiertage,D31)>0 )} -> TRUE
B32: =CHOOSE(WEEKDAY(D32,2),"Mo","Di","Mi","Do","Fr","Sa","So") -> Mo | C32: =IF(C31+1<EDATE($C$7,12),C31+1,"") -> 46048 | D32: =IF(D31+1<EDATE($D$7,12),D31+1,"") -> 46048 | E32: Konzentrationsarbeit | F32: 0.38194444 | G32: 0.69791667 | H32: 0.043055556 | I32: =IF(OR(ISBLANK(F32),ISBLANK(G32)),"",IF(OR(ISTEXT(F32),ISTEXT(G32),ISTEXT(H32)),"⚠ Eingabe prüfen",IF((G32-F32-H32)<0,"⚠ Zeitfehler",G32-F32-H32))) -> 0.27291667 | J32: =IF(L32,"",Einstellungen!$E$19) -> 0.25 | K32: =IF(LEFT(I32,1)="⚠","",IF(I32="","",IF(L32,"",IF(J32="",IF(Einstellungen!$I$31=TRUE,"+ "&TEXT(I32,"[h]:mm")&" Std.","+ "&TEXT(I32*24,"0,0")&" Std."),IF(Einstellungen!$I$31=TRUE,IF(J32=I32," 00:00",IF(J32>I32,"- "&TEXT(J32-I32,"[h]:mm;@"),"+ "&TEXT(I32-J32,"[h]:mm;@"))),IF(J32=I32," 0,0",IF(J32>I32,"- "&TEXT((J32-I32)*24,"0,0"),"+ "&TEXT((I32-J32)*24,"0,0")))&" Std."))))) -> + 0:33 | L32: {=OR( NOT(INDEX(Einstellungen!$J$22:$J$28,WEEKDAY(D32,2))), COUNTIF(Feiertage,D32)>0 )} -> FALSE
B33: =CHOOSE(WEEKDAY(D33,2),"Mo","Di","Mi","Do","Fr","Sa","So") -> Di | C33: =IF(C32+1<EDATE($C$7,12),C32+1,"") -> 46049 | D33: =IF(D32+1<EDATE($D$7,12),D32+1,"") -> 46049 | E33: Schulung | F33: 0.38194444 | G33: 0.69791667 | H33: 0.015972222 | I33: =IF(OR(ISBLANK(F33),ISBLANK(G33)),"",IF(OR(ISTEXT(F33),ISTEXT(G33),ISTEXT(H33)),"⚠ Eingabe prüfen",IF((G33-F33-H33)<0,"⚠ Zeitfehler",G33-F33-H33))) -> 0.3 | J33: =IF(L33,"",Einstellungen!$E$19) -> 0.25 | K33: =IF(LEFT(I33,1)="⚠","",IF(I33="","",IF(L33,"",IF(J33="",IF(Einstellungen!$I$31=TRUE,"+ "&TEXT(I33,"[h]:mm")&" Std.","+ "&TEXT(I33*24,"0,0")&" Std."),IF(Einstellungen!$I$31=TRUE,IF(J33=I33," 00:00",IF(J33>I33,"- "&TEXT(J33-I33,"[h]:mm;@"),"+ "&TEXT(I33-J33,"[h]:mm;@"))),IF(J33=I33," 0,0",IF(J33>I33,"- "&TEXT((J33-I33)*24,"0,0"),"+ "&TEXT((I33-J33)*24,"0,0")))&" Std."))))) -> + 1:12 | L33: {=OR( NOT(INDEX(Einstellungen!$J$22:$J$28,WEEKDAY(D33,2))), COUNTIF(Feiertage,D33)>0 )} -> FALSE
B34: =CHOOSE(WEEKDAY(D34,2),"Mo","Di","Mi","Do","Fr","Sa","So") -> Mi | C34: =IF(C33+1<EDATE($C$7,12),C33+1,"") -> 46050 | D34: =IF(D33+1<EDATE($D$7,12),D33+1,"") -> 46050 | E34: Geschäftsessen | F34: 0.375 | G34: 0.67708333 | H34: 0.045138889 | I34: =IF(OR(ISBLANK(F34),ISBLANK(G34)),"",IF(OR(ISTEXT(F34),ISTEXT(G34),ISTEXT(H34)),"⚠ Eingabe prüfen",IF((G34-F34-H34)<0,"⚠ Zeitfehler",G34-F34-H34))) -> 0.25694444 | J34: =IF(L34,"",Einstellungen!$E$19) -> 0.25 | K34: =IF(LEFT(I34,1)="⚠","",IF(I34="","",IF(L34,"",IF(J34="",IF(Einstellungen!$I$31=TRUE,"+ "&TEXT(I34,"[h]:mm")&" Std.","+ "&TEXT(I34*24,"0,0")&" Std."),IF(Einstellungen!$I$31=TRUE,IF(J34=I34," 00:00",IF(J34>I34,"- "&TEXT(J34-I34,"[h]:mm;@"),"+ "&TEXT(I34-J34,"[h]:mm;@"))),IF(J34=I34," 0,0",IF(J34>I34,"- "&TEXT((J34-I34)*24,"0,0"),"+ "&TEXT((I34-J34)*24,"0,0")))&" Std."))))) -> + 0:10 | L34: {=OR( NOT(INDEX(Einstellungen!$J$22:$J$28,WEEKDAY(D34,2))), COUNTIF(Feiertage,D34)>0 )} -> FALSE
B35: =CHOOSE(WEEKDAY(D35,2),"Mo","Di","Mi","Do","Fr","Sa","So") -> Do | C35: =IF(C34+1<EDATE($C$7,12),C34+1,"") -> 46051 | D35: =IF(D34+1<EDATE($D$7,12),D34+1,"") -> 46051 | E35: Kundentreffen | F35: 0.35416667 | G35: 0.55 | H35: 0.0034722222 | I35: =IF(OR(ISBLANK(F35),ISBLANK(G35)),"",IF(OR(ISTEXT(F35),ISTEXT(G35),ISTEXT(H35)),"⚠ Eingabe prüfen",IF((G35-F35-H35)<0,"⚠ Zeitfehler",G35-F35-H35))) -> 0.19236111 | J35: =IF(L35,"",Einstellungen!$E$19) -> 0.25 | K35: =IF(LEFT(I35,1)="⚠","",IF(I35="","",IF(L35,"",IF(J35="",IF(Einstellungen!$I$31=TRUE,"+ "&TEXT(I35,"[h]:mm")&" Std.","+ "&TEXT(I35*24,"0,0")&" Std."),IF(Einstellungen!$I$31=TRUE,IF(J35=I35," 00:00",IF(J35>I35,"- "&TEXT(J35-I35,"[h]:mm;@"),"+ "&TEXT(I35-J35,"[h]:mm;@"))),IF(J35=I35," 0,0",IF(J35>I35,"- "&TEXT((J35-I35)*24,"0,0"),"+ "&TEXT((I35-J35)*24,"0,0")))&" Std."))))) -> - 1:23 | L35: {=OR( NOT(INDEX(Einstellungen!$J$22:$J$28,WEEKDAY(D35,2))), COUNTIF(Feiertage,D35)>0 )} -> FALSE
B36: =CHOOSE(WEEKDAY(D36,2),"Mo","Di","Mi","Do","Fr","Sa","So") -> Fr | C36: =IF(C35+1<EDATE($C$7,12),C35+1,"") -> 46052 | D36: =IF(D35+1<EDATE($D$7,12),D35+1,"") -> 46052 | E36: Sicherheitstraining | F36: 0.375 | G36: 0.67708333 | H36: 0.043055556 | I36: =IF(OR(ISBLANK(F36),ISBLANK(G36)),"",IF(OR(ISTEXT(F36),ISTEXT(G36),ISTEXT(H36)),"⚠ Eingabe prüfen",IF((G36-F36-H36)<0,"⚠ Zeitfehler",G36-F36-H36))) -> 0.25902778 | J36: =IF(L36,"",Einstellungen!$E$19) -> 0.25 | K36: =IF(LEFT(I36,1)="⚠","",IF(I36="","",IF(L36,"",IF(J36="",IF(Einstellungen!$I$31=TRUE,"+ "&TEXT(I36,"[h]:mm")&" Std.","+ "&TEXT(I36*24,"0,0")&" Std."),IF(Einstellungen!$I$31=TRUE,IF(J36=I36," 00:00",IF(J36>I36,"- "&TEXT(J36-I36,"[h]:mm;@"),"+ "&TEXT(I36-J36,"[h]:mm;@"))),IF(J36=I36," 0,0",IF(J36>I36,"- "&TEXT((J36-I36)*24,"0,0"),"+ "&TEXT((I36-J36)*24,"0,0")))&" Std."))))) -> + 0:13 | L36: {=OR( NOT(INDEX(Einstellungen!$J$22:$J$28,WEEKDAY(D36,2))), COUNTIF(Feiertage,D36)>0 )} -> FALSE
B37: =CHOOSE(WEEKDAY(D37,2),"Mo","Di","Mi","Do","Fr","Sa","So") -> Sa | C37: =IF(C36+1<EDATE($C$7,12),C36+1,"") -> 46053 | D37: =IF(D36+1<EDATE($D$7,12),D36+1,"") -> 46053 | I37: =IF(OR(ISBLANK(F37),ISBLANK(G37)),"",IF(OR(ISTEXT(F37),ISTEXT(G37),ISTEXT(H37)),"⚠ Eingabe prüfen",IF((G37-F37-H37)<0,"⚠ Zeitfehler",G37-F37-H37))) | J37: =IF(L37,"",Einstellungen!$E$19) | K37: =IF(LEFT(I37,1)="⚠","",IF(I37="","",IF(L37,"",IF(J37="",IF(Einstellungen!$I$31=TRUE,"+ "&TEXT(I37,"[h]:mm")&" Std.","+ "&TEXT(I37*24,"0,0")&" Std."),IF(Einstellungen!$I$31=TRUE,IF(J37=I37," 00:00",IF(J37>I37,"- "&TEXT(J37-I37,"[h]:mm;@"),"+ "&TEXT(I37-J37,"[h]:mm;@"))),IF(J37=I37," 0,0",IF(J37>I37,"- "&TEXT((J37-I37)*24,"0,0"),"+ "&TEXT((I37-J37)*24,"0,0")))&" Std."))))) | L37: {=OR( NOT(INDEX(Einstellungen!$J$22:$J$28,WEEKDAY(D37,2))), COUNTIF(Feiertage,D37)>0 )} -> TRUE
B38: =CHOOSE(WEEKDAY(D38,2),"Mo","Di","Mi","Do","Fr","Sa","So") -> So | C38: =IF(C37+1<EDATE($C$7,12),C37+1,"") -> 46054 | D38: =IF(D37+1<EDATE($D$7,12),D37+1,"") -> 46054 | I38: =IF(OR(ISBLANK(F38),ISBLANK(G38)),"",IF(OR(ISTEXT(F38),ISTEXT(G38),ISTEXT(H38)),"⚠ Eingabe prüfen",IF((G38-F38-H38)<0,"⚠ Zeitfehler",G38-F38-H38))) | J38: =IF(L38,"",Einstellungen!$E$19) | K38: =IF(LEFT(I38,1)="⚠","",IF(I38="","",IF(L38,"",IF(J38="",IF(Einstellungen!$I$31=TRUE,"+ "&TEXT(I38,"[h]:mm")&" Std.","+ "&TEXT(I38*24,"0,0")&" Std."),IF(Einstellungen!$I$31=TRUE,IF(J38=I38," 00:00",IF(J38>I38,"- "&TEXT(J38-I38,"[h]:mm;@"),"+ "&TEXT(I38-J38,"[h]:mm;@"))),IF(J38=I38," 0,0",IF(J38>I38,"- "&TEXT((J38-I38)*24,"0,0"),"+ "&TEXT((I38-J38)*24,"0,0")))&" Std."))))) | L38: {=OR( NOT(INDEX(Einstellungen!$J$22:$J$28,WEEKDAY(D38,2))), COUNTIF(Feiertage,D38)>0 )} -> TRUE
B39: =CHOOSE(WEEKDAY(D39,2),"Mo","Di","Mi","Do","Fr","Sa","So") -> Mo | C39: =IF(C38+1<EDATE($C$7,12),C38+1,"") -> 46055 | D39: =IF(D38+1<EDATE($D$7,12),D38+1,"") -> 46055 | E39: Videokonferenz | F39: 0.35416667 | G39: 0.41666667 | H39: 0.059027778 | I39: =IF(OR(ISBLANK(F39),ISBLANK(G39)),"",IF(OR(ISTEXT(F39),ISTEXT(G39),ISTEXT(H39)),"⚠ Eingabe prüfen",IF((G39-F39-H39)<0,"⚠ Zeitfehler",G39-F39-H39))) -> 0.0034722222 | J39: =IF(L39,"",Einstellungen!$E$19) -> 0.25 | K39: =IF(LEFT(I39,1)="⚠","",IF(I39="","",IF(L39,"",IF(J39="",IF(Einstellungen!$I$31=TRUE,"+ "&TEXT(I39,"[h]:mm")&" Std.","+ "&TEXT(I39*24,"0,0")&" Std."),IF(Einstellungen!$I$31=TRUE,IF(J39=I39," 00:00",IF(J39>I39,"- "&TEXT(J39-I39,"[h]:mm;@"),"+ "&TEXT(I39-J39,"[h]:mm;@"))),IF(J39=I39," 0,0",IF(J39>I39,"- "&TEXT((J39-I39)*24,"0,0"),"+ "&TEXT((I39-J39)*24,"0,0")))&" Std."))))) -> - 5:55 | L39: {=OR( NOT(INDEX(Einstellungen!$J$22:$J$28,WEEKDAY(D39,2))), COUNTIF(Feiertage,D39)>0 )} -> FALSE
B40: =CHOOSE(WEEKDAY(D40,2),"Mo","Di","Mi","Do","Fr","Sa","So") -> Di | C40: =IF(C39+1<EDATE($C$7,12),C39+1,"") -> 46056 | D40: =IF(D39+1<EDATE($D$7,12),D39+1,"") -> 46056 | E40: Sicherheitstraining | F40: 0.375 | G40: 0.67708333 | H40: 0.045138889 | I40: =IF(OR(ISBLANK(F40),ISBLANK(G40)),"",IF(OR(ISTEXT(F40),ISTEXT(G40),ISTEXT(H40)),"⚠ Eingabe prüfen",IF((G40-F40-H40)<0,"⚠ Zeitfehler",G40-F40-H40))) -> 0.25694444 | J40: =IF(L40,"",Einstellungen!$E$19) -> 0.25 | K40: =IF(LEFT(I40,1)="⚠","",IF(I40="","",IF(L40,"",IF(J40="",IF(Einstellungen!$I$31=TRUE,"+ "&TEXT(I40,"[h]:mm")&" Std.","+ "&TEXT(I40*24,"0,0")&" Std."),IF(Einstellungen!$I$31=TRUE,IF(J40=I40," 00:00",IF(J40>I40,"- "&TEXT(J40-I40,"[h]:mm;@"),"+ "&TEXT(I40-J40,"[h]:mm;@"))),IF(J40=I40," 0,0",IF(J40>I40,"- "&TEXT((J40-I40)*24,"0,0"),"+ "&TEXT((I40-J40)*24,"0,0")))&" Std."))))) -> + 0:10 | L40: {=OR( NOT(INDEX(Einstellungen!$J$22:$J$28,WEEKDAY(D40,2))), COUNTIF(Feiertage,D40)>0 )} -> FALSE
...

Sheet Monatsauswertung
A1: 💡 Deine Zeiterfassung verdient ein Upgrade – entdecke Personizer. Jetzt kostenfrei testen
B2: Monatsauswertung | F2: =C5 -> Januar | G2: Pausen | H2: Arbeitszeit | I2: Abweichung
B3: =Einstellungen!E9&" "&Einstellungen!E10 -> Andi Arbeit | F3: =COUNTIFS($H$7:$H$37,">0") & " / " & COUNTIFS($J$7:$J$37,FALSE) & " Arbeitstage" -> 21 / 21 Arbeitstage | G3: =_xlfn.AGGREGATE(9,6,$G$7:$G$37) -> 0.62291667 | H3: =TEXT(SUM($H$7:$H$37),"[h]:mm") & " Std." -> 130:40 Std. | I3: =IF( Einstellungen!$I$31=TRUE, IF(_xlfn.AGGREGATE(9,6,$H$7:$H$37) - COUNTIF($H$7:$H$37,">0") * Einstellungen!$E$19 >= 0, "+" & TEXT(_xlfn.AGGREGATE(9,6,$H$7:$H$37) - COUNTIF($H$7:$H$37,">0") * Einstellungen!$E$19, "[h]:mm") & " Std.", "-" & TEXT(ABS(_xlfn.AGGREGATE(9,6,$H$7:$H$37) - COUNTIF($H$7:$H$37,">0") * Einstellungen!$E$19), "[h]:mm") & " Std." ), IF(_xlfn.AGGREGATE(9,6,$H$7:$H$37)*24 - COUNTIF($H$7:$H$37,">0") * (Einstellungen!$E$19*24) >= 0, "+" & TEXT(_xlfn.AGGREGATE(9,6,$H$7:$H$37)*24 - COUNTIF($H$7:$H$37,">0") * (Einstellungen!$E$19*24), "0,0") & " Std.", "-" & TEXT(ABS(_xlfn.AGGREGATE(9,6,$H$7:$H$37)*24 - COUNTIF($H$7:$H$37,">0") * (Einstellungen!$E$19*24)), "0,0") & " Std." ) ) -> +4:40 Std.
B5: =DATE(YEAR(Einstellungen!$E$6),MATCH(C5,Monate,0),1) -> 46023 | C5: Januar | D5: Notiz | E5: Start | F5: Ende | G5: Pause | H5: Arbeitszeit | I5: Abweichung
B6: Tag | C6: Datum | E6: ="(Ø "&IFERROR(TEXT(_xlfn.AGGREGATE(1,6,$E$7:$E$37),"[h]:mm")&" Uhr","")&")" -> (Ø 8:55 Uhr) | F6: ="(Ø "&IFERROR(TEXT(_xlfn.AGGREGATE(1,6,$F$7:$F$37),"[h]:mm")&" Uhr","")&")" -> (Ø 15:51 Uhr) | G6: ="(Ø "&IFERROR(TEXT(_xlfn.AGGREGATE(1,6,$G$7:$G$37),"[h]:mm;@")&" Std.","")&")" -> (Ø 0:42 Std.) | H6: ="(Ø "&IFERROR(TEXT(_xlfn.AGGREGATE(1,6,$H$7:$H$37),"[h]:mm;@")&" Std.","")&")" -> (Ø 6:13 Std.) | I6: =IF(Einstellungen!$I$31=TRUE, "(Soll "&TEXT(Einstellungen!E19,"[h]:mm;@")&" Std./Tag)", "(Soll "&TEXT(Einstellungen!E19*24,"0,0")&" Std./Tag)") -> (Soll 6:00 Std./Tag) | J6: FALSCH bedeutetm es wird gearbeitet
B7: =CHOOSE(WEEKDAY(C7,2),"Mo","Di","Mi","Do","Fr","Sa","So") -> Do | C7: =B5 -> 46023 | D7: =_xlfn.IFNA(IF(VLOOKUP(C7,Zeiterfassung!$C$7:$F$372,3,)=0,"",VLOOKUP(C7,Zeiterfassung!$C$7:$F$372,3,)),"") | E7: =_xlfn.IFNA(IF(VLOOKUP(C7,Zeiterfassung!$C$7:$F$372,4,)=0,"",VLOOKUP(C7,Zeiterfassung!$C$7:$F$372,4,)),"") | F7: =_xlfn.IFNA(IF(VLOOKUP(C7,Zeiterfassung!$C$7:$G$372,5,)=0,"",VLOOKUP(C7,Zeiterfassung!$C$7:$G$372,5,)),"") | G7: =IF(AND(E7<>"",F7<>""),_xlfn.IFNA(VLOOKUP(C7,Zeiterfassung!$C$7:$H$372,6,),""),"") | H7: =_xlfn.IFNA(IF(VLOOKUP(C7,Zeiterfassung!$C$7:$I$372,7,)=0,"",VLOOKUP(C7,Zeiterfassung!$C$7:$I$372,7,)),"") | I7: =_xlfn.IFNA(IF(VLOOKUP(C7,Zeiterfassung!$C$7:$K$372,9,)=0,"",VLOOKUP(C7,Zeiterfassung!$C$7:$K$372,9,)),"") | J7: =IF(ISNUMBER(C7),VLOOKUP(C7,Zeiterfassung!C:L,10,FALSE),"") -> TRUE
B8: =IF(ISNUMBER(C8),CHOOSE(WEEKDAY(C8,2),"Mo","Di","Mi","Do","Fr","Sa","So"),"") -> Fr | C8: =IF(C7="","",IF(C7<DATE(YEAR($B$5),MONTH($B$5)+1,0),C7+1,"")) -> 46024 | D8: =_xlfn.IFNA(IF(VLOOKUP(C8,Zeiterfassung!$C$7:$F$372,3,)=0,"",VLOOKUP(C8,Zeiterfassung!$C$7:$F$372,3,)),"") -> Videocall mit Projektleiter | E8: =_xlfn.IFNA(IF(VLOOKUP(C8,Zeiterfassung!$C$7:$F$372,4,)=0,"",VLOOKUP(C8,Zeiterfassung!$C$7:$F$372,4,)),"") -> 0.38194444 | F8: =_xlfn.IFNA(IF(VLOOKUP(C8,Zeiterfassung!$C$7:$G$372,5,)=0,"",VLOOKUP(C8,Zeiterfassung!$C$7:$G$372,5,)),"") -> 0.66666667 | G8: =IF(AND(E8<>"",F8<>""),_xlfn.IFNA(VLOOKUP(C8,Zeiterfassung!$C$7:$H$372,6,),""),"") -> 0.020833333 | H8: =_xlfn.IFNA(IF(VLOOKUP(C8,Zeiterfassung!$C$7:$I$372,7,)=0,"",VLOOKUP(C8,Zeiterfassung!$C$7:$I$372,7,)),"") -> 0.26388889 | I8: =_xlfn.IFNA(IF(VLOOKUP(C8,Zeiterfassung!$C$7:$K$372,9,)=0,"",VLOOKUP(C8,Zeiterfassung!$C$7:$K$372,9,)),"") -> + 0:20 | J8: =IF(ISNUMBER(C8),VLOOKUP(C8,Zeiterfassung!C:L,10,FALSE),"") -> FALSE
B9: =IF(ISNUMBER(C9),CHOOSE(WEEKDAY(C9,2),"Mo","Di","Mi","Do","Fr","Sa","So"),"") -> Sa | C9: =IF(C8="","",IF(C8<DATE(YEAR($B$5),MONTH($B$5)+1,0),C8+1,"")) -> 46025 | D9: =_xlfn.IFNA(IF(VLOOKUP(C9,Zeiterfassung!$C$7:$F$372,3,)=0,"",VLOOKUP(C9,Zeiterfassung!$C$7:$F$372,3,)),"") | E9: =_xlfn.IFNA(IF(VLOOKUP(C9,Zeiterfassung!$C$7:$F$372,4,)=0,"",VLOOKUP(C9,Zeiterfassung!$C$7:$F$372,4,)),"") | F9: =_xlfn.IFNA(IF(VLOOKUP(C9,Zeiterfassung!$C$7:$G$372,5,)=0,"",VLOOKUP(C9,Zeiterfassung!$C$7:$G$372,5,)),"") | G9: =IF(AND(E9<>"",F9<>""),_xlfn.IFNA(VLOOKUP(C9,Zeiterfassung!$C$7:$H$372,6,),""),"") | H9: =_xlfn.IFNA(IF(VLOOKUP(C9,Zeiterfassung!$C$7:$I$372,7,)=0,"",VLOOKUP(C9,Zeiterfassung!$C$7:$I$372,7,)),"") | I9: =_xlfn.IFNA(IF(VLOOKUP(C9,Zeiterfassung!$C$7:$K$372,9,)=0,"",VLOOKUP(C9,Zeiterfassung!$C$7:$K$372,9,)),"") | J9: =IF(ISNUMBER(C9),VLOOKUP(C9,Zeiterfassung!C:L,10,FALSE),"") -> TRUE
B10: =IF(ISNUMBER(C10),CHOOSE(WEEKDAY(C10,2),"Mo","Di","Mi","Do","Fr","Sa","So"),"") -> So | C10: =IF(C9="","",IF(C9<DATE(YEAR($B$5),MONTH($B$5)+1,0),C9+1,"")) -> 46026 | D10: =_xlfn.IFNA(IF(VLOOKUP(C10,Zeiterfassung!$C$7:$F$372,3,)=0,"",VLOOKUP(C10,Zeiterfassung!$C$7:$F$372,3,)),"") | E10: =_xlfn.IFNA(IF(VLOOKUP(C10,Zeiterfassung!$C$7:$F$372,4,)=0,"",VLOOKUP(C10,Zeiterfassung!$C$7:$F$372,4,)),"") | F10: =_xlfn.IFNA(IF(VLOOKUP(C10,Zeiterfassung!$C$7:$G$372,5,)=0,"",VLOOKUP(C10,Zeiterfassung!$C$7:$G$372,5,)),"") | G10: =IF(AND(E10<>"",F10<>""),_xlfn.IFNA(VLOOKUP(C10,Zeiterfassung!$C$7:$H$372,6,),""),"") | H10: =_xlfn.IFNA(IF(VLOOKUP(C10,Zeiterfassung!$C$7:$I$372,7,)=0,"",VLOOKUP(C10,Zeiterfassung!$C$7:$I$372,7,)),"") | I10: =_xlfn.IFNA(IF(VLOOKUP(C10,Zeiterfassung!$C$7:$K$372,9,)=0,"",VLOOKUP(C10,Zeiterfassung!$C$7:$K$372,9,)),"") | J10: =IF(ISNUMBER(C10),VLOOKUP(C10,Zeiterfassung!C:L,10,FALSE),"") -> TRUE
B11: =IF(ISNUMBER(C11),CHOOSE(WEEKDAY(C11,2),"Mo","Di","Mi","Do","Fr","Sa","So"),"") -> Mo | C11: =IF(C10="","",IF(C10<DATE(YEAR($B$5),MONTH($B$5)+1,0),C10+1,"")) -> 46027 | D11: =_xlfn.IFNA(IF(VLOOKUP(C11,Zeiterfassung!$C$7:$F$372,3,)=0,"",VLOOKUP(C11,Zeiterfassung!$C$7:$F$372,3,)),"") -> Team Meeting | E11: =_xlfn.IFNA(IF(VLOOKUP(C11,Zeiterfassung!$C$7:$F$372,4,)=0,"",VLOOKUP(C11,Zeiterfassung!$C$7:$F$372,4,)),"") -> 0.35416667 | F11: =_xlfn.IFNA(IF(VLOOKUP(C11,Zeiterfassung!$C$7:$G$372,5,)=0,"",VLOOKUP(C11,Zeiterfassung!$C$7:$G$372,5,)),"") -> 0.66666667 | G11: =IF(AND(E11<>"",F11<>""),_xlfn.IFNA(VLOOKUP(C11,Zeiterfassung!$C$7:$H$372,6,),""),"") -> 0.020833333 | H11: =_xlfn.IFNA(IF(VLOOKUP(C11,Zeiterfassung!$C$7:$I$372,7,)=0,"",VLOOKUP(C11,Zeiterfassung!$C$7:$I$372,7,)),"") -> 0.29166667 | I11: =_xlfn.IFNA(IF(VLOOKUP(C11,Zeiterfassung!$C$7:$K$372,9,)=0,"",VLOOKUP(C11,Zeiterfassung!$C$7:$K$372,9,)),"") -> + 1:00 | J11: =IF(ISNUMBER(C11),VLOOKUP(C11,Zeiterfassung!C:L,10,FALSE),"") -> FALSE
B12: =IF(ISNUMBER(C12),CHOOSE(WEEKDAY(C12,2),"Mo","Di","Mi","Do","Fr","Sa","So"),"") -> Di | C12: =IF(C11="","",IF(C11<DATE(YEAR($B$5),MONTH($B$5)+1,0),C11+1,"")) -> 46028 | D12: =_xlfn.IFNA(IF(VLOOKUP(C12,Zeiterfassung!$C$7:$F$372,3,)=0,"",VLOOKUP(C12,Zeiterfassung!$C$7:$F$372,3,)),"") -> Team Event | E12: =_xlfn.IFNA(IF(VLOOKUP(C12,Zeiterfassung!$C$7:$F$372,4,)=0,"",VLOOKUP(C12,Zeiterfassung!$C$7:$F$372,4,)),"") -> 0.38194444 | F12: =_xlfn.IFNA(IF(VLOOKUP(C12,Zeiterfassung!$C$7:$G$372,5,)=0,"",VLOOKUP(C12,Zeiterfassung!$C$7:$G$372,5,)),"") -> 0.6875 | G12: =IF(AND(E12<>"",F12<>""),_xlfn.IFNA(VLOOKUP(C12,Zeiterfassung!$C$7:$H$372,6,),""),"") -> 0.021527778 | H12: =_xlfn.IFNA(IF(VLOOKUP(C12,Zeiterfassung!$C$7:$I$372,7,)=0,"",VLOOKUP(C12,Zeiterfassung!$C$7:$I$372,7,)),"") -> 0.28402778 | I12: =_xlfn.IFNA(IF(VLOOKUP(C12,Zeiterfassung!$C$7:$K$372,9,)=0,"",VLOOKUP(C12,Zeiterfassung!$C$7:$K$372,9,)),"") -> + 0:49 | J12: =IF(ISNUMBER(C12),VLOOKUP(C12,Zeiterfassung!C:L,10,FALSE),"") -> FALSE
B13: =IF(ISNUMBER(C13),CHOOSE(WEEKDAY(C13,2),"Mo","Di","Mi","Do","Fr","Sa","So"),"") -> Mi | C13: =IF(C12="","",IF(C12<DATE(YEAR($B$5),MONTH($B$5)+1,0),C12+1,"")) -> 46029 | D13: =_xlfn.IFNA(IF(VLOOKUP(C13,Zeiterfassung!$C$7:$F$372,3,)=0,"",VLOOKUP(C13,Zeiterfassung!$C$7:$F$372,3,)),"") -> Team Event | E13: =_xlfn.IFNA(IF(VLOOKUP(C13,Zeiterfassung!$C$7:$F$372,4,)=0,"",VLOOKUP(C13,Zeiterfassung!$C$7:$F$372,4,)),"") -> 0.375 | F13: =_xlfn.IFNA(IF(VLOOKUP(C13,Zeiterfassung!$C$7:$G$372,5,)=0,"",VLOOKUP(C13,Zeiterfassung!$C$7:$G$372,5,)),"") -> 0.66666667 | G13: =IF(AND(E13<>"",F13<>""),_xlfn.IFNA(VLOOKUP(C13,Zeiterfassung!$C$7:$H$372,6,),""),"") -> 0.015972222 | H13: =_xlfn.IFNA(IF(VLOOKUP(C13,Zeiterfassung!$C$7:$I$372,7,)=0,"",VLOOKUP(C13,Zeiterfassung!$C$7:$I$372,7,)),"") -> 0.27569444 | I13: =_xlfn.IFNA(IF(VLOOKUP(C13,Zeiterfassung!$C$7:$K$372,9,)=0,"",VLOOKUP(C13,Zeiterfassung!$C$7:$K$372,9,)),"") -> + 0:37 | J13: =IF(ISNUMBER(C13),VLOOKUP(C13,Zeiterfassung!C:L,10,FALSE),"") -> FALSE
B14: =IF(ISNUMBER(C14),CHOOSE(WEEKDAY(C14,2),"Mo","Di","Mi","Do","Fr","Sa","So"),"") -> Do | C14: =IF(C13="","",IF(C13<DATE(YEAR($B$5),MONTH($B$5)+1,0),C13+1,"")) -> 46030 | D14: =_xlfn.IFNA(IF(VLOOKUP(C14,Zeiterfassung!$C$7:$F$372,3,)=0,"",VLOOKUP(C14,Zeiterfassung!$C$7:$F$372,3,)),"") -> Geschäftsessen | E14: =_xlfn.IFNA(IF(VLOOKUP(C14,Zeiterfassung!$C$7:$F$372,4,)=0,"",VLOOKUP(C14,Zeiterfassung!$C$7:$F$372,4,)),"") -> 0.35416667 | F14: =_xlfn.IFNA(IF(VLOOKUP(C14,Zeiterfassung!$C$7:$G$372,5,)=0,"",VLOOKUP(C14,Zeiterfassung!$C$7:$G$372,5,)),"") -> 0.66666667 | G14: =IF(AND(E14<>"",F14<>""),_xlfn.IFNA(VLOOKUP(C14,Zeiterfassung!$C$7:$H$372,6,),""),"") -> 0.041666667 | H14: =_xlfn.IFNA(IF(VLOOKUP(C14,Zeiterfassung!$C$7:$I$372,7,)=0,"",VLOOKUP(C14,Zeiterfassung!$C$7:$I$372,7,)),"") -> 0.27083333 | I14: =_xlfn.IFNA(IF(VLOOKUP(C14,Zeiterfassung!$C$7:$K$372,9,)=0,"",VLOOKUP(C14,Zeiterfassung!$C$7:$K$372,9,)),"") -> + 0:30 | J14: =IF(ISNUMBER(C14),VLOOKUP(C14,Zeiterfassung!C:L,10,FALSE),"") -> FALSE
B15: =IF(ISNUMBER(C15),CHOOSE(WEEKDAY(C15,2),"Mo","Di","Mi","Do","Fr","Sa","So"),"") -> Fr | C15: =IF(C14="","",IF(C14<DATE(YEAR($B$5),MONTH($B$5)+1,0),C14+1,"")) -> 46031 | D15: =_xlfn.IFNA(IF(VLOOKUP(C15,Zeiterfassung!$C$7:$F$372,3,)=0,"",VLOOKUP(C15,Zeiterfassung!$C$7:$F$372,3,)),"") -> Konzentrationsarbeit | E15: =_xlfn.IFNA(IF(VLOOKUP(C15,Zeiterfassung!$C$7:$F$372,4,)=0,"",VLOOKUP(C15,Zeiterfassung!$C$7:$F$372,4,)),"") -> 0.38194444 | F15: =_xlfn.IFNA(IF(VLOOKUP(C15,Zeiterfassung!$C$7:$G$372,5,)=0,"",VLOOKUP(C15,Zeiterfassung!$C$7:$G$372,5,)),"") -> 0.69791667 | G15: =IF(AND(E15<>"",F15<>""),_xlfn.IFNA(VLOOKUP(C15,Zeiterfassung!$C$7:$H$372,6,),""),"") -> 0.043055556 | H15: =_xlfn.IFNA(IF(VLOOKUP(C15,Zeiterfassung!$C$7:$I$372,7,)=0,"",VLOOKUP(C15,Zeiterfassung!$C$7:$I$372,7,)),"") -> 0.27291667 | I15: =_xlfn.IFNA(IF(VLOOKUP(C15,Zeiterfassung!$C$7:$K$372,9,)=0,"",VLOOKUP(C15,Zeiterfassung!$C$7:$K$372,9,)),"") -> + 0:33 | J15: =IF(ISNUMBER(C15),VLOOKUP(C15,Zeiterfassung!C:L,10,FALSE),"") -> FALSE
B16: =IF(ISNUMBER(C16),CHOOSE(WEEKDAY(C16,2),"Mo","Di","Mi","Do","Fr","Sa","So"),"") -> Sa | C16: =IF(C15="","",IF(C15<DATE(YEAR($B$5),MONTH($B$5)+1,0),C15+1,"")) -> 46032 | D16: =_xlfn.IFNA(IF(VLOOKUP(C16,Zeiterfassung!$C$7:$F$372,3,)=0,"",VLOOKUP(C16,Zeiterfassung!$C$7:$F$372,3,)),"") | E16: =_xlfn.IFNA(IF(VLOOKUP(C16,Zeiterfassung!$C$7:$F$372,4,)=0,"",VLOOKUP(C16,Zeiterfassung!$C$7:$F$372,4,)),"") | F16: =_xlfn.IFNA(IF(VLOOKUP(C16,Zeiterfassung!$C$7:$G$372,5,)=0,"",VLOOKUP(C16,Zeiterfassung!$C$7:$G$372,5,)),"") | G16: =IF(AND(E16<>"",F16<>""),_xlfn.IFNA(VLOOKUP(C16,Zeiterfassung!$C$7:$H$372,6,),""),"") | H16: =_xlfn.IFNA(IF(VLOOKUP(C16,Zeiterfassung!$C$7:$I$372,7,)=0,"",VLOOKUP(C16,Zeiterfassung!$C$7:$I$372,7,)),"") | I16: =_xlfn.IFNA(IF(VLOOKUP(C16,Zeiterfassung!$C$7:$K$372,9,)=0,"",VLOOKUP(C16,Zeiterfassung!$C$7:$K$372,9,)),"") | J16: =IF(ISNUMBER(C16),VLOOKUP(C16,Zeiterfassung!C:L,10,FALSE),"") -> TRUE
B17: =IF(ISNUMBER(C17),CHOOSE(WEEKDAY(C17,2),"Mo","Di","Mi","Do","Fr","Sa","So"),"") -> So | C17: =IF(C16="","",IF(C16<DATE(YEAR($B$5),MONTH($B$5)+1,0),C16+1,"")) -> 46033 | D17: =_xlfn.IFNA(IF(VLOOKUP(C17,Zeiterfassung!$C$7:$F$372,3,)=0,"",VLOOKUP(C17,Zeiterfassung!$C$7:$F$372,3,)),"") | E17: =_xlfn.IFNA(IF(VLOOKUP(C17,Zeiterfassung!$C$7:$F$372,4,)=0,"",VLOOKUP(C17,Zeiterfassung!$C$7:$F$372,4,)),"") | F17: =_xlfn.IFNA(IF(VLOOKUP(C17,Zeiterfassung!$C$7:$G$372,5,)=0,"",VLOOKUP(C17,Zeiterfassung!$C$7:$G$372,5,)),"") | G17: =IF(AND(E17<>"",F17<>""),_xlfn.IFNA(VLOOKUP(C17,Zeiterfassung!$C$7:$H$372,6,),""),"") | H17: =_xlfn.IFNA(IF(VLOOKUP(C17,Zeiterfassung!$C$7:$I$372,7,)=0,"",VLOOKUP(C17,Zeiterfassung!$C$7:$I$372,7,)),"") | I17: =_xlfn.IFNA(IF(VLOOKUP(C17,Zeiterfassung!$C$7:$K$372,9,)=0,"",VLOOKUP(C17,Zeiterfassung!$C$7:$K$372,9,)),"") | J17: =IF(ISNUMBER(C17),VLOOKUP(C17,Zeiterfassung!C:L,10,FALSE),"") -> TRUE | R17: w
B18: =IF(ISNUMBER(C18),CHOOSE(WEEKDAY(C18,2),"Mo","Di","Mi","Do","Fr","Sa","So"),"") -> Mo | C18: =IF(C17="","",IF(C17<DATE(YEAR($B$5),MONTH($B$5)+1,0),C17+1,"")) -> 46034 | D18: =_xlfn.IFNA(IF(VLOOKUP(C18,Zeiterfassung!$C$7:$F$372,3,)=0,"",VLOOKUP(C18,Zeiterfassung!$C$7:$F$372,3,)),"") -> Videokonferenz | E18: =_xlfn.IFNA(IF(VLOOKUP(C18,Zeiterfassung!$C$7:$F$372,4,)=0,"",VLOOKUP(C18,Zeiterfassung!$C$7:$F$372,4,)),"") -> 0.35416667 | F18: =_xlfn.IFNA(IF(VLOOKUP(C18,Zeiterfassung!$C$7:$G$372,5,)=0,"",VLOOKUP(C18,Zeiterfassung!$C$7:$G$372,5,)),"") -> 0.64583333 | G18: =IF(AND(E18<>"",F18<>""),_xlfn.IFNA(VLOOKUP(C18,Zeiterfassung!$C$7:$H$372,6,),""),"") -> 0.016666667 | H18: =_xlfn.IFNA(IF(VLOOKUP(C18,Zeiterfassung!$C$7:$I$372,7,)=0,"",VLOOKUP(C18,Zeiterfassung!$C$7:$I$372,7,)),"") -> 0.275 | I18: =_xlfn.IFNA(IF(VLOOKUP(C18,Zeiterfassung!$C$7:$K$372,9,)=0,"",VLOOKUP(C18,Zeiterfassung!$C$7:$K$372,9,)),"") -> + 0:36 | J18: =IF(ISNUMBER(C18),VLOOKUP(C18,Zeiterfassung!C:L,10,FALSE),"") -> FALSE
B19: =IF(ISNUMBER(C19),CHOOSE(WEEKDAY(C19,2),"Mo","Di","Mi","Do","Fr","Sa","So"),"") -> Di | C19: =IF(C18="","",IF(C18<DATE(YEAR($B$5),MONTH($B$5)+1,0),C18+1,"")) -> 46035 | D19: =_xlfn.IFNA(IF(VLOOKUP(C19,Zeiterfassung!$C$7:$F$372,3,)=0,"",VLOOKUP(C19,Zeiterfassung!$C$7:$F$372,3,)),"") -> Schulung | E19: =_xlfn.IFNA(IF(VLOOKUP(C19,Zeiterfassung!$C$7:$F$372,4,)=0,"",VLOOKUP(C19,Zeiterfassung!$C$7:$F$372,4,)),"") -> 0.38194444 | F19: =_xlfn.IFNA(IF(VLOOKUP(C19,Zeiterfassung!$C$7:$G$372,5,)=0,"",VLOOKUP(C19,Zeiterfassung!$C$7:$G$372,5,)),"") -> 0.69791667 | G19: =IF(AND(E19<>"",F19<>""),_xlfn.IFNA(VLOOKUP(C19,Zeiterfassung!$C$7:$H$372,6,),""),"") -> 0.015277778 | H19: =_xlfn.IFNA(IF(VLOOKUP(C19,Zeiterfassung!$C$7:$I$372,7,)=0,"",VLOOKUP(C19,Zeiterfassung!$C$7:$I$372,7,)),"") -> 0.30069444 | I19: =_xlfn.IFNA(IF(VLOOKUP(C19,Zeiterfassung!$C$7:$K$372,9,)=0,"",VLOOKUP(C19,Zeiterfassung!$C$7:$K$372,9,)),"") -> + 1:13 | J19: =IF(ISNUMBER(C19),VLOOKUP(C19,Zeiterfassung!C:L,10,FALSE),"") -> FALSE
B20: =IF(ISNUMBER(C20),CHOOSE(WEEKDAY(C20,2),"Mo","Di","Mi","Do","Fr","Sa","So"),"") -> Mi | C20: =IF(C19="","",IF(C19<DATE(YEAR($B$5),MONTH($B$5)+1,0),C19+1,"")) -> 46036 | D20: =_xlfn.IFNA(IF(VLOOKUP(C20,Zeiterfassung!$C$7:$F$372,3,)=0,"",VLOOKUP(C20,Zeiterfassung!$C$7:$F$372,3,)),"") -> Konzentrationsarbeit | E20: =_xlfn.IFNA(IF(VLOOKUP(C20,Zeiterfassung!$C$7:$F$372,4,)=0,"",VLOOKUP(C20,Zeiterfassung!$C$7:$F$372,4,)),"") -> 0.375 | F20: =_xlfn.IFNA(IF(VLOOKUP(C20,Zeiterfassung!$C$7:$G$372,5,)=0,"",VLOOKUP(C20,Zeiterfassung!$C$7:$G$372,5,)),"") -> 0.68402778 | G20: =IF(AND(E20<>"",F20<>""),_xlfn.IFNA(VLOOKUP(C20,Zeiterfassung!$C$7:$H$372,6,),""),"") -> 0.03125 | H20: =_xlfn.IFNA(IF(VLOOKUP(C20,Zeiterfassung!$C$7:$I$372,7,)=0,"",VLOOKUP(C20,Zeiterfassung!$C$7:$I$372,7,)),"") -> 0.27777778 | I20: =_xlfn.IFNA(IF(VLOOKUP(C20,Zeiterfassung!$C$7:$K$372,9,)=0,"",VLOOKUP(C20,Zeiterfassung!$C$7:$K$372,9,)),"") -> + 0:40 | J20: =IF(ISNUMBER(C20),VLOOKUP(C20,Zeiterfassung!C:L,10,FALSE),"") -> FALSE
B21: =IF(ISNUMBER(C21),CHOOSE(WEEKDAY(C21,2),"Mo","Di","Mi","Do","Fr","Sa","So"),"") -> Do | C21: =IF(C20="","",IF(C20<DATE(YEAR($B$5),MONTH($B$5)+1,0),C20+1,"")) -> 46037 | D21: =_xlfn.IFNA(IF(VLOOKUP(C21,Zeiterfassung!$C$7:$F$372,3,)=0,"",VLOOKUP(C21,Zeiterfassung!$C$7:$F$372,3,)),"") -> Konzentrationsarbeit | E21: =_xlfn.IFNA(IF(VLOOKUP(C21,Zeiterfassung!$C$7:$F$372,4,)=0,"",VLOOKUP(C21,Zeiterfassung!$C$7:$F$372,4,)),"") -> 0.38194444 | F21: =_xlfn.IFNA(IF(VLOOKUP(C21,Zeiterfassung!$C$7:$G$372,5,)=0,"",VLOOKUP(C21,Zeiterfassung!$C$7:$G$372,5,)),"") -> 0.69791667 | G21: =IF(AND(E21<>"",F21<>""),_xlfn.IFNA(VLOOKUP(C21,Zeiterfassung!$C$7:$H$372,6,),""),"") -> 0.015972222 | H21: =_xlfn.IFNA(IF(VLOOKUP(C21,Zeiterfassung!$C$7:$I$372,7,)=0,"",VLOOKUP(C21,Zeiterfassung!$C$7:$I$372,7,)),"") -> 0.3 | I21: =_xlfn.IFNA(IF(VLOOKUP(C21,Zeiterfassung!$C$7:$K$372,9,)=0,"",VLOOKUP(C21,Zeiterfassung!$C$7:$K$372,9,)),"") -> + 1:12 | J21: =IF(ISNUMBER(C21),VLOOKUP(C21,Zeiterfassung!C:L,10,FALSE),"") -> FALSE
B22: =IF(ISNUMBER(C22),CHOOSE(WEEKDAY(C22,2),"Mo","Di","Mi","Do","Fr","Sa","So"),"") -> Fr | C22: =IF(C21="","",IF(C21<DATE(YEAR($B$5),MONTH($B$5)+1,0),C21+1,"")) -> 46038 | D22: =_xlfn.IFNA(IF(VLOOKUP(C22,Zeiterfassung!$C$7:$F$372,3,)=0,"",VLOOKUP(C22,Zeiterfassung!$C$7:$F$372,3,)),"") -> Geschäftsessen | E22: =_xlfn.IFNA(IF(VLOOKUP(C22,Zeiterfassung!$C$7:$F$372,4,)=0,"",VLOOKUP(C22,Zeiterfassung!$C$7:$F$372,4,)),"") -> 0.35416667 | F22: =_xlfn.IFNA(IF(VLOOKUP(C22,Zeiterfassung!$C$7:$G$372,5,)=0,"",VLOOKUP(C22,Zeiterfassung!$C$7:$G$372,5,)),"") -> 0.41666667 | G22: =IF(AND(E22<>"",F22<>""),_xlfn.IFNA(VLOOKUP(C22,Zeiterfassung!$C$7:$H$372,6,),""),"") -> 0.020833333 | H22: =_xlfn.IFNA(IF(VLOOKUP(C22,Zeiterfassung!$C$7:$I$372,7,)=0,"",VLOOKUP(C22,Zeiterfassung!$C$7:$I$372,7,)),"") -> 0.041666667 | I22: =_xlfn.IFNA(IF(VLOOKUP(C22,Zeiterfassung!$C$7:$K$372,9,)=0,"",VLOOKUP(C22,Zeiterfassung!$C$7:$K$372,9,)),"") -> - 5:00 | J22: =IF(ISNUMBER(C22),VLOOKUP(C22,Zeiterfassung!C:L,10,FALSE),"") -> FALSE
B23: =IF(ISNUMBER(C23),CHOOSE(WEEKDAY(C23,2),"Mo","Di","Mi","Do","Fr","Sa","So"),"") -> Sa | C23: =IF(C22="","",IF(C22<DATE(YEAR($B$5),MONTH($B$5)+1,0),C22+1,"")) -> 46039 | D23: =_xlfn.IFNA(IF(VLOOKUP(C23,Zeiterfassung!$C$7:$F$372,3,)=0,"",VLOOKUP(C23,Zeiterfassung!$C$7:$F$372,3,)),"") | E23: =_xlfn.IFNA(IF(VLOOKUP(C23,Zeiterfassung!$C$7:$F$372,4,)=0,"",VLOOKUP(C23,Zeiterfassung!$C$7:$F$372,4,)),"") | F23: =_xlfn.IFNA(IF(VLOOKUP(C23,Zeiterfassung!$C$7:$G$372,5,)=0,"",VLOOKUP(C23,Zeiterfassung!$C$7:$G$372,5,)),"") | G23: =IF(AND(E23<>"",F23<>""),_xlfn.IFNA(VLOOKUP(C23,Zeiterfassung!$C$7:$H$372,6,),""),"") | H23: =_xlfn.IFNA(IF(VLOOKUP(C23,Zeiterfassung!$C$7:$I$372,7,)=0,"",VLOOKUP(C23,Zeiterfassung!$C$7:$I$372,7,)),"") | I23: =_xlfn.IFNA(IF(VLOOKUP(C23,Zeiterfassung!$C$7:$K$372,9,)=0,"",VLOOKUP(C23,Zeiterfassung!$C$7:$K$372,9,)),"") | J23: =IF(ISNUMBER(C23),VLOOKUP(C23,Zeiterfassung!C:L,10,FALSE),"") -> TRUE
B24: =IF(ISNUMBER(C24),CHOOSE(WEEKDAY(C24,2),"Mo","Di","Mi","Do","Fr","Sa","So"),"") -> So | C24: =IF(C23="","",IF(C23<DATE(YEAR($B$5),MONTH($B$5)+1,0),C23+1,"")) -> 46040 | D24: =_xlfn.IFNA(IF(VLOOKUP(C24,Zeiterfassung!$C$7:$F$372,3,)=0,"",VLOOKUP(C24,Zeiterfassung!$C$7:$F$372,3,)),"") | E24: =_xlfn.IFNA(IF(VLOOKUP(C24,Zeiterfassung!$C$7:$F$372,4,)=0,"",VLOOKUP(C24,Zeiterfassung!$C$7:$F$372,4,)),"") | F24: =_xlfn.IFNA(IF(VLOOKUP(C24,Zeiterfassung!$C$7:$G$372,5,)=0,"",VLOOKUP(C24,Zeiterfassung!$C$7:$G$372,5,)),"") | G24: =IF(AND(E24<>"",F24<>""),_xlfn.IFNA(VLOOKUP(C24,Zeiterfassung!$C$7:$H$372,6,),""),"") | H24: =_xlfn.IFNA(IF(VLOOKUP(C24,Zeiterfassung!$C$7:$I$372,7,)=0,"",VLOOKUP(C24,Zeiterfassung!$C$7:$I$372,7,)),"") | I24: =_xlfn.IFNA(IF(VLOOKUP(C24,Zeiterfassung!$C$7:$K$372,9,)=0,"",VLOOKUP(C24,Zeiterfassung!$C$7:$K$372,9,)),"") | J24: =IF(ISNUMBER(C24),VLOOKUP(C24,Zeiterfassung!C:L,10,FALSE),"") -> TRUE
B25: =IF(ISNUMBER(C25),CHOOSE(WEEKDAY(C25,2),"Mo","Di","Mi","Do","Fr","Sa","So"),"") -> Mo | C25: =IF(C24="","",IF(C24<DATE(YEAR($B$5),MONTH($B$5)+1,0),C24+1,"")) -> 46041 | D25: =_xlfn.IFNA(IF(VLOOKUP(C25,Zeiterfassung!$C$7:$F$372,3,)=0,"",VLOOKUP(C25,Zeiterfassung!$C$7:$F$372,3,)),"") -> Videocall mit Projektleiter | E25: =_xlfn.IFNA(IF(VLOOKUP(C25,Zeiterfassung!$C$7:$F$372,4,)=0,"",VLOOKUP(C25,Zeiterfassung!$C$7:$F$372,4,)),"") -> 0.38194444 | F25: =_xlfn.IFNA(IF(VLOOKUP(C25,Zeiterfassung!$C$7:$G$372,5,)=0,"",VLOOKUP(C25,Zeiterfassung!$C$7:$G$372,5,)),"") -> 0.69791667 | G25: =IF(AND(E25<>"",F25<>""),_xlfn.IFNA(VLOOKUP(C25,Zeiterfassung!$C$7:$H$372,6,),""),"") -> 0.043055556 | H25: =_xlfn.IFNA(IF(VLOOKUP(C25,Zeiterfassung!$C$7:$I$372,7,)=0,"",VLOOKUP(C25,Zeiterfassung!$C$7:$I$372,7,)),"") -> 0.27291667 | I25: =_xlfn.IFNA(IF(VLOOKUP(C25,Zeiterfassung!$C$7:$K$372,9,)=0,"",VLOOKUP(C25,Zeiterfassung!$C$7:$K$372,9,)),"") -> + 0:33 | J25: =IF(ISNUMBER(C25),VLOOKUP(C25,Zeiterfassung!C:L,10,FALSE),"") -> FALSE
B26: =IF(ISNUMBER(C26),CHOOSE(WEEKDAY(C26,2),"Mo","Di","Mi","Do","Fr","Sa","So"),"") -> Di | C26: =IF(C25="","",IF(C25<DATE(YEAR($B$5),MONTH($B$5)+1,0),C25+1,"")) -> 46042 | D26: =_xlfn.IFNA(IF(VLOOKUP(C26,Zeiterfassung!$C$7:$F$372,3,)=0,"",VLOOKUP(C26,Zeiterfassung!$C$7:$F$372,3,)),"") -> Konzentratiosnarbeit | E26: =_xlfn.IFNA(IF(VLOOKUP(C26,Zeiterfassung!$C$7:$F$372,4,)=0,"",VLOOKUP(C26,Zeiterfassung!$C$7:$F$372,4,)),"") -> 0.375 | F26: =_xlfn.IFNA(IF(VLOOKUP(C26,Zeiterfassung!$C$7:$G$372,5,)=0,"",VLOOKUP(C26,Zeiterfassung!$C$7:$G$372,5,)),"") -> 0.67708333 | G26: =IF(AND(E26<>"",F26<>""),_xlfn.IFNA(VLOOKUP(C26,Zeiterfassung!$C$7:$H$372,6,),""),"") -> 0.045138889 | H26: =_xlfn.IFNA(IF(VLOOKUP(C26,Zeiterfassung!$C$7:$I$372,7,)=0,"",VLOOKUP(C26,Zeiterfassung!$C$7:$I$372,7,)),"") -> 0.25694444 | I26: =_xlfn.IFNA(IF(VLOOKUP(C26,Zeiterfassung!$C$7:$K$372,9,)=0,"",VLOOKUP(C26,Zeiterfassung!$C$7:$K$372,9,)),"") -> + 0:10 | J26: =IF(ISNUMBER(C26),VLOOKUP(C26,Zeiterfassung!C:L,10,FALSE),"") -> FALSE
B27: =IF(ISNUMBER(C27),CHOOSE(WEEKDAY(C27,2),"Mo","Di","Mi","Do","Fr","Sa","So"),"") -> Mi | C27: =IF(C26="","",IF(C26<DATE(YEAR($B$5),MONTH($B$5)+1,0),C26+1,"")) -> 46043 | D27: =_xlfn.IFNA(IF(VLOOKUP(C27,Zeiterfassung!$C$7:$F$372,3,)=0,"",VLOOKUP(C27,Zeiterfassung!$C$7:$F$372,3,)),"") -> Team-Meeting | E27: =_xlfn.IFNA(IF(VLOOKUP(C27,Zeiterfassung!$C$7:$F$372,4,)=0,"",VLOOKUP(C27,Zeiterfassung!$C$7:$F$372,4,)),"") -> 0.35416667 | F27: =_xlfn.IFNA(IF(VLOOKUP(C27,Zeiterfassung!$C$7:$G$372,5,)=0,"",VLOOKUP(C27,Zeiterfassung!$C$7:$G$372,5,)),"") -> 0.63541667 | G27: =IF(AND(E27<>"",F27<>""),_xlfn.IFNA(VLOOKUP(C27,Zeiterfassung!$C$7:$H$372,6,),""),"") -> 0.059027778 | H27: =_xlfn.IFNA(IF(VLOOKUP(C27,Zeiterfassung!$C$7:$I$372,7,)=0,"",VLOOKUP(C27,Zeiterfassung!$C$7:$I$372,7,)),"") -> 0.22222222 | I27: =_xlfn.IFNA(IF(VLOOKUP(C27,Zeiterfassung!$C$7:$K$372,9,)=0,"",VLOOKUP(C27,Zeiterfassung!$C$7:$K$372,9,)),"") -> - 0:40 | J27: =IF(ISNUMBER(C27),VLOOKUP(C27,Zeiterfassung!C:L,10,FALSE),"") -> FALSE
B28: =IF(ISNUMBER(C28),CHOOSE(WEEKDAY(C28,2),"Mo","Di","Mi","Do","Fr","Sa","So"),"") -> Do | C28: =IF(C27="","",IF(C27<DATE(YEAR($B$5),MONTH($B$5)+1,0),C27+1,"")) -> 46044 | D28: =_xlfn.IFNA(IF(VLOOKUP(C28,Zeiterfassung!$C$7:$F$372,3,)=0,"",VLOOKUP(C28,Zeiterfassung!$C$7:$F$372,3,)),"") -> Team-Event | E28: =_xlfn.IFNA(IF(VLOOKUP(C28,Zeiterfassung!$C$7:$F$372,4,)=0,"",VLOOKUP(C28,Zeiterfassung!$C$7:$F$372,4,)),"") -> 0.38194444 | F28: =_xlfn.IFNA(IF(VLOOKUP(C28,Zeiterfassung!$C$7:$G$372,5,)=0,"",VLOOKUP(C28,Zeiterfassung!$C$7:$G$372,5,)),"") -> 0.69791667 | G28: =IF(AND(E28<>"",F28<>""),_xlfn.IFNA(VLOOKUP(C28,Zeiterfassung!$C$7:$H$372,6,),""),"") -> 0.015972222 | H28: =_xlfn.IFNA(IF(VLOOKUP(C28,Zeiterfassung!$C$7:$I$372,7,)=0,"",VLOOKUP(C28,Zeiterfassung!$C$7:$I$372,7,)),"") -> 0.3 | I28: =_xlfn.IFNA(IF(VLOOKUP(C28,Zeiterfassung!$C$7:$K$372,9,)=0,"",VLOOKUP(C28,Zeiterfassung!$C$7:$K$372,9,)),"") -> + 1:12 | J28: =IF(ISNUMBER(C28),VLOOKUP(C28,Zeiterfassung!C:L,10,FALSE),"") -> FALSE
B29: =IF(ISNUMBER(C29),CHOOSE(WEEKDAY(C29,2),"Mo","Di","Mi","Do","Fr","Sa","So"),"") -> Fr | C29: =IF(C28="","",IF(C28<DATE(YEAR($B$5),MONTH($B$5)+1,0),C28+1,"")) -> 46045 | D29: =_xlfn.IFNA(IF(VLOOKUP(C29,Zeiterfassung!$C$7:$F$372,3,)=0,"",VLOOKUP(C29,Zeiterfassung!$C$7:$F$372,3,)),"") -> Team-Event | E29: =_xlfn.IFNA(IF(VLOOKUP(C29,Zeiterfassung!$C$7:$F$372,4,)=0,"",VLOOKUP(C29,Zeiterfassung!$C$7:$F$372,4,)),"") -> 0.375 | F29: =_xlfn.IFNA(IF(VLOOKUP(C29,Zeiterfassung!$C$7:$G$372,5,)=0,"",VLOOKUP(C29,Zeiterfassung!$C$7:$G$372,5,)),"") -> 0.67708333 | G29: =IF(AND(E29<>"",F29<>""),_xlfn.IFNA(VLOOKUP(C29,Zeiterfassung!$C$7:$H$372,6,),""),"") -> 0.045138889 | H29: =_xlfn.IFNA(IF(VLOOKUP(C29,Zeiterfassung!$C$7:$I$372,7,)=0,"",VLOOKUP(C29,Zeiterfassung!$C$7:$I$372,7,)),"") -> 0.25694444 | I29: =_xlfn.IFNA(IF(VLOOKUP(C29,Zeiterfassung!$C$7:$K$372,9,)=0,"",VLOOKUP(C29,Zeiterfassung!$C$7:$K$372,9,)),"") -> + 0:10 | J29: =IF(ISNUMBER(C29),VLOOKUP(C29,Zeiterfassung!C:L,10,FALSE),"") -> FALSE
... B37: =IF(ISNUMBER(C37),CHOOSE(WEEKDAY(C37,2),"Mo","Di","Mi","Do","Fr","Sa","So"),"") -> Sa | C37: =IF(C36="","",IF(C36<DATE(YEAR($B$5),MONTH($B$5)+1,0),C36+1,"")) -> 46053 | D37: =_xlfn.IFNA(IF(VLOOKUP(C37,Zeiterfassung!$C$7:$F$372,3,)=0,"",VLOOKUP(C37,Zeiterfassung!$C$7:$F$372,3,)),"") | E37: =_xlfn.IFNA(IF(VLOOKUP(C37,Zeiterfassung!$C$7:$F$372,4,)=0,"",VLOOKUP(C37,Zeiterfassung!$C$7:$F$372,4,)),"") | F37: =_xlfn.IFNA(IF(VLOOKUP(C37,Zeiterfassung!$C$7:$G$372,5,)=0,"",VLOOKUP(C37,Zeiterfassung!$C$7:$G$372,5,)),"") | G37: =IF(AND(E37<>"",F37<>""),_xlfn.IFNA(VLOOKUP(C37,Zeiterfassung!$C$7:$H$372,6,),""),"") | H37: =_xlfn.IFNA(IF(VLOOKUP(C37,Zeiterfassung!$C$7:$I$372,7,)=0,"",VLOOKUP(C37,Zeiterfassung!$C$7:$I$372,7,)),"") | I37: =_xlfn.IFNA(IF(VLOOKUP(C37,Zeiterfassung!$C$7:$K$372,9,)=0,"",VLOOKUP(C37,Zeiterfassung!$C$7:$K$372,9,)),"") | J37: =IF(ISNUMBER(C37),VLOOKUP(C37,Zeiterfassung!C:L,10,FALSE),"") -> TRUE
B38: =IF(ISNUMBER(C38),CHOOSE(WEEKDAY(C38,2),"Mo","Di","Mi","Do","Fr","Sa","So"),"") | C38: =IF(C37="","",IF(C37<DATE(YEAR($B$5),MONTH($B$5)+1,0),C37+1,"")) | D38: =_xlfn.IFNA(IF(VLOOKUP(C38,Zeiterfassung!$C$7:$F$372,3,)=0,"",VLOOKUP(C38,Zeiterfassung!$C$7:$F$372,3,)),"") | E38: =_xlfn.IFNA(IF(VLOOKUP(C38,Zeiterfassung!$C$7:$F$372,4,)=0,"",VLOOKUP(C38,Zeiterfassung!$C$7:$F$372,4,)),"") | F38: =_xlfn.IFNA(IF(VLOOKUP(C38,Zeiterfassung!$C$7:$G$372,4,)=0,"",VLOOKUP(C38,Zeiterfassung!$C$7:$G$372,4,)),"") | G38: =_xlfn.IFNA(IF(AND(VLOOKUP(C38,Zeiterfassung!$C$7:$H$372,5,)=0,F38=""),"",VLOOKUP(C38,Zeiterfassung!$C$7:$H$372,5,)),"") | H38: =_xlfn.IFNA(IF(VLOOKUP(C38,Zeiterfassung!$C$7:$I$372,6,)=0,"",VLOOKUP(C38,Zeiterfassung!$C$7:$I$372,6,)),"") | I38: =_xlfn.IFNA(IF(VLOOKUP(C38,Zeiterfassung!$C$7:$K$372,7,)=0,"",VLOOKUP(C38,Zeiterfassung!$C$7:$K$372,7,)),"")
B39: =IF(ISNUMBER(C39),CHOOSE(WEEKDAY(C39,2),"Mo","Di","Mi","Do","Fr","Sa","So"),"") | C39: =IF(C38="","",IF(C38<DATE(YEAR($B$5),MONTH($B$5)+1,0),C38+1,"")) | D39: =_xlfn.IFNA(IF(VLOOKUP(C39,Zeiterfassung!$C$7:$F$372,3,)=0,"",VLOOKUP(C39,Zeiterfassung!$C$7:$F$372,3,)),"") | E39: =_xlfn.IFNA(IF(VLOOKUP(C39,Zeiterfassung!$C$7:$F$372,4,)=0,"",VLOOKUP(C39,Zeiterfassung!$C$7:$F$372,4,)),"") | F39: =_xlfn.IFNA(IF(VLOOKUP(C39,Zeiterfassung!$C$7:$G$372,4,)=0,"",VLOOKUP(C39,Zeiterfassung!$C$7:$G$372,4,)),"") | G39: =_xlfn.IFNA(IF(AND(VLOOKUP(C39,Zeiterfassung!$C$7:$H$372,5,)=0,F39=""),"",VLOOKUP(C39,Zeiterfassung!$C$7:$H$372,5,)),"") | H39: =_xlfn.IFNA(IF(VLOOKUP(C39,Zeiterfassung!$C$7:$I$372,6,)=0,"",VLOOKUP(C39,Zeiterfassung!$C$7:$I$372,6,)),"") | I39: =_xlfn.IFNA(IF(VLOOKUP(C39,Zeiterfassung!$C$7:$K$372,7,)=0,"",VLOOKUP(C39,Zeiterfassung!$C$7:$K$372,7,)),"")
